BEGIN_USGS_DOQ_HEADER *
QUADRANGLE_NAME "SECRET SPRING MOUNTAIN" 3.45 or 7.5-min. name*
QUADRANT SW quadrant indicator if cell size = 3.75-minutes*
WEST_LONGITUDE -122 15 0.000 signed deg min sec SDDD MM SS.SSS*
EAST_LONGITUDE -122 11 15.000 signed deg min sec SDDD MM SS.SSS*
NORTH_LATITUDE 41 56 15.000 signed deg min sec SDDD MM SS.SSS*
SOUTH_LATITUDE 41 52 30.000 signed deg min sec SDDD MM SS.SSS*
PRODUCTION_DATE 1995 11 17 yyyy mm dd*
RASTER_ORDER LEFT_RIGHT/TOP_BOTTOM video display order*
BAND_ORGANIZATION "SINGLE FILE" single file or BSQ, or BIL or BIP*
BAND_CONTENT BLACK&WHITE black&white or red green blue*
BITS_PER_PIXEL 8 radiometric resolution*
SAMPLES_AND_LINES 5947 7609 number of columns and rows*
HORIZONTAL_DATUM NAD83 primary horizontal datum*
HORIZONTAL_COORDINATE_SYSTEM UTM *
COORDINATE_ZONE 10 coordinate system zone number*
HORIZONTAL_UNITS METERS coordinate system units*
HORIZONTAL_RESOLUTION 1.00 pixel horiz. ground sample distance*
SECONDARY_HORIZONTAL_DATUM NAD27 secondary horizontal datum*
XY_ORIGIN 561777.500 4643459.500 coord. of upper left pixel pri. datum*
SECONDARY_XY_ORIGIN 561872.482 4643261.764 coord upper left pixel sec datum*
NATION US nation code*
STATE CA state fip code*
NW_QUAD_CORNER_XY 562174.153 4643108.926 XY coords. of pri. NW quad corner*
NE_QUAD_CORNER_XY 567355.368 4643156.144 XY coords. of pri. NE quad corner*
SE_QUAD_CORNER_XY 567421.098 4636216.878 XY coords. of pri. SE quad corner*
SW_QUAD_CORNER_XY 562234.826 4636169.671 XY coords. of pri. SW quad corner*
SECONDARY_NW_QUAD_XY 562175.864 4642895.483 XY coords. - sec. NW quad cor.*
SECONDARY_NE_QUAD_XY 567357.222 4642942.703 XY coords. - sec. NE quad cor.*
SECONDARY_SE_QUAD_XY 567422.951 4636003.534 XY coords. - sec. SE quad cor.*
SECONDARY_SW_QUAD_XY 562236.536 4635956.326 XY coords. - sec. SW quad cor.*
RMSE_XY 3.20 doq horiz. accuracy*
IMAGE_SOURCE "BLACK AND WHITE FILM" b&w, cir, natural color, other*
SOURCE_IMAGE_ID "PAPP 4254 818" source image id*
SOURCE_IMAGE_DATE 1993 8 25 source image date as yyyy mm dd*
IMAGE_SOURCE "BLACK AND WHITE FILM" b&w, cir, natural color, other*
SOURCE_IMAGE_ID "PAPP 4254 4254" source image id*
SOURCE_IMAGE_DATE 1993 8 25 source image date as yyyy mm dd*
IMAGE_SOURCE "BLACK AND WHITE FILM" b&w, cir, natural color, other*
SOURCE_IMAGE_ID "PAPP 4254 494" source image id*
SOURCE_IMAGE_DATE 1993 8 25 source image date as yyyy mm dd*
SOURCE_DEM_DATE 1995 11 17 source dem date yyyy mm dd*
AGENCY "WESTERN MAPPING CENTER (WMC)" oversight agency*
PRODUCER "Woolpert Consultants" producer/contractor*
PRODUCTION_SYSTEM "INTERGRAPH ISPM,ISIR" production system*
STANDARD_VERSION 1996 12 version of DOQ standard*
METADATA_DATE 1997 5 23 date created or changed, yyyy mm dd*
DATA_FILE_SIZE 45256670 data set size in bytes*
BYTE_COUNT 5947 header byte count* * * * * * * * * * * * * * * * * * * * * * * * * *
END_USGS_HEADER *
