BEGIN_USGS_DOQ_HEADER *
QUADRANGLE_NAME "COPCO" *
QUADRANT NW *
WEST_LONGITUDE -122 22 30.000 *
EAST_LONGITUDE -122 18 45.000 *
NORTH_LATITUDE 42 0 0.000 *
SOUTH_LATITUDE 41 56 15.000 *
PRODUCTION_DATE 2001 5 14 *
RASTER_ORDER LEFT_RIGHT/TOP_BOTTOM *
BAND_ORGANIZATION "SINGLE FILE" *
BAND_CONTENT BLACK&WHITE *
BITS_PER_PIXEL 8 *
SAMPLES_AND_LINES 5923 7593 *
HORIZONTAL_DATUM NAD83 *
HORIZONTAL_COORDINATE_SYSTEM UTM *
COORDINATE_ZONE 10 *
HORIZONTAL_UNITS METERS *
HORIZONTAL_RESOLUTION 1.0 *
SECONDARY_HORIZONTAL_DATUM NAD27 *
XY_ORIGIN 551368.567 4650303.805 *
SECONDARY_XY_ORIGIN 551463.553 4650106.178 *
NATION US *
STATE CA *
NW_QUAD_CORNER_XY 551761.123 4649965.133 *
NE_QUAD_CORNER_XY 556937.260 4650004.805 *
SE_QUAD_CORNER_XY 556992.945 4643065.486 *
SW_QUAD_CORNER_XY 551811.745 4643025.823 *
SECONDARY_NW_QUAD_XY 551762.552 4649751.593 *
SECONDARY_NE_QUAD_XY 556938.832 4649791.266 *
SECONDARY_SE_QUAD_XY 556994.516 4642852.044 *
SECONDARY_SW_QUAD_XY 551813.173 4642812.380 *
RMSE_XY 1.82 *
IMAGE_SOURCE "BLACK AND WHITE FILM" *
SOURCE_IMAGE_ID "NAPP 10482 62" *
SOURCE_IMAGE_DATE 1998 8 14 *
SOURCE_IMAGE_ID "NAPP 10482 61" *
SOURCE_IMAGE_DATE 1998 8 14 *
SOURCE_IMAGE_ID "NAPP 10482 63" *
SOURCE_IMAGE_DATE 1998 8 14 *
SOURCE_IMAGE_ID "NAPP 10482 74" *
SOURCE_IMAGE_DATE 1998 8 14 *
SOURCE_IMAGE_ID "NAPP 10482 73" *
SOURCE_IMAGE_DATE 1998 8 14 *
SOURCE_IMAGE_ID "NAPP 10482 72" *
SOURCE_IMAGE_DATE 1998 8 14 *
SOURCE_IMAGE_ID "NAPP 10487 156" *
SOURCE_IMAGE_DATE 1998 8 27 *
SOURCE_IMAGE_ID "NAPP 10487 155" *
SOURCE_IMAGE_DATE 1998 8 27 *
SOURCE_IMAGE_ID "NAPP 10487 154" *
SOURCE_IMAGE_DATE 1998 8 27 *
SOURCE_DEM_DATE 2000 0 0 *
AGENCY "WESTERN MAPPING CENTER (WMC)" *
PRODUCER "USDA FS GEOSPATIAL SERVICE AND TECHNOLOGY CENTER" *
PRODUCTION_SYSTEM "ORBIT OR_RECTIFY V.5.2" *
STANDARD_VERSION 1996 12 *
METADATA_DATE 2001 5 15 *
DATA_FILE_SIZE 44979262 *
BYTE_COUNT 5923 * * * * * * * * * * * * * * * *
END_USGS_HEADER *
