BEGIN_USGS_DOQ_HEADER *
QUADRANGLE_NAME "IRON GATE RESERVOIR" 3.45 or 7.5-min. name*
QUADRANT NE quadrant indicator if cell size = 3.75-minutes*
WEST_LONGITUDE -122 26 15.000 signed deg min sec SDDD MM SS.SSS*
EAST_LONGITUDE -122 22 30.000 signed deg min sec SDDD MM SS.SSS*
NORTH_LATITUDE 42 0 0.000 signed deg min sec SDDD MM SS.SSS*
SOUTH_LATITUDE 41 56 15.000 signed deg min sec SDDD MM SS.SSS*
PRODUCTION_DATE 1997 11 26 yyyy mm dd*
RASTER_ORDER left_right/top_bottom video display order*
BAND_ORGANIZATION "single file" single file or BSQ, or BIL or BIP*
BAND_CONTENT BLACK&WHITE black&white or red green blue*
BITS_PER_PIXEL 8 radiometric resolution*
SAMPLES_AND_LINES 5931 7602 number of columns and rows*
HORIZONTAL_DATUM NAD83 primary horizontal datum*
HORIZONTAL_COORDINATE_SYSTEM UTM *
COORDINATE_ZONE 10 coordinate system zone number*
HORIZONTAL_UNITS meters coordinate system units*
HORIZONTAL_RESOLUTION 1.00 pixel horiz. ground sample distance*
SECONDARY_HORIZONTAL_DATUM NAD27 secondary horizontal datum*
XY_ORIGIN 546186.000 4650271.000 coord. of upper left pixel pri. datum*
SECONDARY_XY_ORIGIN 546281.014 4650073.411 coord upper left pixel sec datum*
NATION US nation code*
STATE CA state fip code*
NW_QUAD_CORNER_XY 546584.992 4649929.240 XY coords. of pri. NW quad corner*
NE_QUAD_CORNER_XY 551761.123 4649965.133 XY coords. of pri. NE quad corner*
SE_QUAD_CORNER_XY 551811.745 4643025.823 XY coords. of pri. SE quad corner*
SW_QUAD_CORNER_XY 546630.551 4642989.938 XY coords. of pri. SW quad corner*
SECONDARY_NW_QUAD_XY 546586.276 4649715.697 XY coords. - sec. NW quad cor.*
SECONDARY_NE_QUAD_XY 551762.549 4649751.591 XY coords. - sec. NE quad cor.*
SECONDARY_SE_QUAD_XY 551813.170 4642812.378 XY coords. - sec. SE quad cor.*
SECONDARY_SW_QUAD_XY 546631.834 4642776.492 XY coords. - sec. SW quad cor.*
RMSE_XY 1.65 doq horiz. accuracy*
IMAGE_SOURCE "BLACK AND WHITE FILM" b&w, cir, natural color, other*
SOURCE_IMAGE_ID "NAPP 6248-277" source image id*
SOURCE_IMAGE_DATE 1993 6 13 source image date as yyyy mm dd*
SOURCE_DEM_DATE 1997 2 1 source dem date yyyy mm dd*
AGENCY "WESTERN MAPPING CENTER (WMC)" oversight agency*
PRODUCER "WOOLPERT LLP" producer/contractor*
PRODUCTION_SYSTEM "INTERGRAPH ISPM, ISIR" production system*
STANDARD_VERSION 1996 12 version of DOQ standard*
METADATA_DATE 1997 11 26 date created or changed, yyyy mm dd*
DATA_FILE_SIZE 45093393 data set size in bytes*
BYTE_COUNT 5931 header byte count* * * * * * * * * * * * * * * * * * * * * * * * * * * * * * * *
END_USGS_HEADER *
