BEGIN_USGS_DOQ_HEADER *
QUADRANGLE_NAME "COTTONWOOD PEAK" 3.45 or 7.5-min. name*
QUADRANT SW quadrant indicator if cell size = 3.75-minutes*
WEST_LONGITUDE -122 45 0.000 signed deg min sec SDDD MM SS.SSS*
EAST_LONGITUDE -122 41 15.000 signed deg min sec SDDD MM SS.SSS*
NORTH_LATITUDE 41 56 15.000 signed deg min sec SDDD MM SS.SSS*
SOUTH_LATITUDE 41 52 30.000 signed deg min sec SDDD MM SS.SSS*
PRODUCTION_DATE 1996 1 16 yyyy mm dd*
RASTER_ORDER LEFT_RIGHT/TOP_BOTTOM video display order*
BAND_ORGANIZATION "SINGLE FILE" single file or BSQ, or BIL or BIP*
BAND_CONTENT BLACK&WHITE black&white or red green blue*
BITS_PER_PIXEL 8 radiometric resolution*
SAMPLES_AND_LINES 5911 7582 number of columns and rows*
HORIZONTAL_DATUM NAD83 primary horizontal datum*
HORIZONTAL_COORDINATE_SYSTEM UTM *
COORDINATE_ZONE 10 coordinate system zone number*
HORIZONTAL_UNITS METERS coordinate system units*
HORIZONTAL_RESOLUTION 1.00 pixel horiz. ground sample distance*
SECONDARY_HORIZONTAL_DATUM NAD27 secondary horizontal datum*
XY_ORIGIN 520325.500 4643188.500 coord. of upper left pixel pri. datum*
SECONDARY_XY_ORIGIN 520420.770 4642991.115 coord upper left pixel sec datum*
NATION US nation code*
STATE CA state fip code*
NW_QUAD_CORNER_XY 520724.660 4642867.177 XY coords. of pri. NW quad corner*
NE_QUAD_CORNER_XY 525905.830 4642884.174 XY coords. of pri. NE quad corner*
SE_QUAD_CORNER_XY 525931.110 4635944.973 XY coords. of pri. SE quad corner*
SW_QUAD_CORNER_XY 520744.884 4635927.980 XY coords. of pri. SW quad corner*
SECONDARY_NW_QUAD_XY 520725.231 4642653.727 XY coords. - sec. NW quad cor.*
SECONDARY_NE_QUAD_XY 525906.543 4642670.725 XY coords. - sec. NE quad cor.*
SECONDARY_SE_QUAD_XY 525931.822 4635731.622 XY coords. - sec. SE quad cor.*
SECONDARY_SW_QUAD_XY 520745.454 4635714.628 XY coords. - sec. SW quad cor.*
RMSE_XY 3.80 doq horiz. accuracy*
IMAGE_SOURCE "BLACK AND WHITE FILM" b&w, cir, natural color, other*
SOURCE_IMAGE_ID "PAPP 5255 595" source image id*
SOURCE_IMAGE_DATE 1993 8 26 source image date as yyyy mm dd*
IMAGE_SOURCE "BLACK AND WHITE FILM" b&w, cir, natural color, other*
SOURCE_IMAGE_ID "PAPP 5255 393" source image id*
SOURCE_IMAGE_DATE 1993 8 26 source image date as yyyy mm dd*
SOURCE_DEM_DATE 1996 1 16 source dem date yyyy mm dd*
AGENCY "WESTERN MAPPING CENTER (WMC)" oversight agency*
PRODUCER "Woolpert Consultants" producer/contractor*
PRODUCTION_SYSTEM "INTERGRAPH ISPM,ISIR" production system*
STANDARD_VERSION 1996 12 version of DOQ standard*
METADATA_DATE 1997 5 23 date created or changed, yyyy mm dd*
DATA_FILE_SIZE 44823113 data set size in bytes*
BYTE_COUNT 5911 header byte count* * * * * * * * * * * * * * * * * * * * * * * * * * * *
END_USGS_HEADER *
