BEGIN_USGS_DOQ_HEADER *
QUADRANGLE_NAME "BUCKHORN BALLY" *
QUADRANT NE *
WEST_LONGITUDE -122 48 45.000 *
EAST_LONGITUDE -122 45 0.000 *
NORTH_LATITUDE 42 0 0.000 *
SOUTH_LATITUDE 41 56 15.000 *
PRODUCTION_DATE 2001 6 20 *
RASTER_ORDER LEFT_RIGHT/TOP_BOTTOM *
BAND_ORGANIZATION "SINGLE FILE" *
BAND_CONTENT BLACK&WHITE *
BITS_PER_PIXEL 8 *
SAMPLES_AND_LINES 5891 7569 *
HORIZONTAL_DATUM NAD83 *
HORIZONTAL_COORDINATE_SYSTEM UTM *
COORDINATE_ZONE 10 *
HORIZONTAL_UNITS METERS *
HORIZONTAL_RESOLUTION 1.0 *
SECONDARY_HORIZONTAL_DATUM NAD27 *
XY_ORIGIN 515133.450 4650106.449 *
SECONDARY_XY_ORIGIN 515228.738 4649909.195 *
NATION US *
STATE CA *
NW_QUAD_CORNER_XY 515528.307 4649793.226 *
NE_QUAD_CORNER_XY 520704.412 4649806.449 *
SE_QUAD_CORNER_XY 520724.660 4642867.177 *
SW_QUAD_CORNER_XY 515543.493 4642853.957 *
SECONDARY_NW_QUAD_XY 515528.738 4649579.683 *
SECONDARY_NE_QUAD_XY 520704.986 4649592.907 *
SECONDARY_SE_QUAD_XY 520725.234 4642653.731 *
SECONDARY_SW_QUAD_XY 515543.924 4642640.510 *
RMSE_XY 3.08 *
IMAGE_SOURCE "BLACK AND WHITE FILM" *
SOURCE_IMAGE_ID "NAPP 10485 188" *
SOURCE_IMAGE_DATE 1998 8 24 *
SOURCE_IMAGE_ID "NAPP 10485 189" *
SOURCE_IMAGE_DATE 1998 8 24 *
SOURCE_IMAGE_ID "NAPP 10485 187" *
SOURCE_IMAGE_DATE 1998 8 24 *
SOURCE_IMAGE_ID "NAPP 10481 150" *
SOURCE_IMAGE_DATE 1998 8 14 *
SOURCE_IMAGE_ID "NAPP 10481 151" *
SOURCE_IMAGE_DATE 1998 8 14 *
SOURCE_IMAGE_ID "NAPP 10481 152" *
SOURCE_IMAGE_DATE 1998 8 14 *
SOURCE_IMAGE_ID "NAPP 10485 49" *
SOURCE_IMAGE_DATE 1998 8 24 *
SOURCE_IMAGE_ID "NAPP 10485 48" *
SOURCE_IMAGE_DATE 1998 8 24 *
SOURCE_IMAGE_ID "NAPP 10485 47" *
SOURCE_IMAGE_DATE 1998 8 24 *
SOURCE_DEM_DATE 1999 0 0 *
AGENCY "WESTERN MAPPING CENTER (WMC)" *
PRODUCER "USDA FS GEOSPATIAL SERVICE AND TECHNOLOGY CENTER" *
PRODUCTION_SYSTEM "ORBIT OR_RECTIFY V.5.2" *
STANDARD_VERSION 1996 12 *
METADATA_DATE 2001 6 22 *
DATA_FILE_SIZE 44594870 *
BYTE_COUNT 5891 * * * * * * * * * * * * * * *
END_USGS_HEADER *
