BEGIN_USGS_DOQ_HEADER *
QUADRANGLE_NAME "CONDREY MOUNTAIN" *
QUADRANT NE *
WEST_LONGITUDE -122 56 15.000 *
EAST_LONGITUDE -122 52 30.000 *
NORTH_LATITUDE 42 0 0.000 *
SOUTH_LATITUDE 41 56 15.000 *
PRODUCTION_DATE 2001 6 20 *
RASTER_ORDER LEFT_RIGHT/TOP_BOTTOM *
BAND_ORGANIZATION "SINGLE FILE" *
BAND_CONTENT BLACK&WHITE *
BITS_PER_PIXEL 8 *
SAMPLES_AND_LINES 5881 7561 *
HORIZONTAL_DATUM NAD83 *
HORIZONTAL_COORDINATE_SYSTEM UTM *
COORDINATE_ZONE 10 *
HORIZONTAL_UNITS METERS *
HORIZONTAL_RESOLUTION 1.0 *
SECONDARY_HORIZONTAL_DATUM NAD27 *
XY_ORIGIN 504780.834 4650083.781 *
SECONDARY_XY_ORIGIN 504876.247 4649886.765 *
NATION US *
STATE CA *
NW_QUAD_CORNER_XY 505176.101 4649778.114 *
NE_QUAD_CORNER_XY 510352.204 4649783.781 *
SE_QUAD_CORNER_XY 510362.327 4642844.514 *
SW_QUAD_CORNER_XY 505181.163 4642838.848 *
SECONDARY_NW_QUAD_XY 505176.247 4649564.570 *
SECONDARY_NE_QUAD_XY 510352.492 4649570.238 *
SECONDARY_SE_QUAD_XY 510362.616 4642631.067 *
SECONDARY_SW_QUAD_XY 505181.309 4642625.401 *
RMSE_XY 3.08 *
IMAGE_SOURCE "BLACK AND WHITE FILM" *
SOURCE_IMAGE_ID "NAPP 10485 37" *
SOURCE_IMAGE_DATE 1998 8 24 *
SOURCE_IMAGE_ID "NAPP 10485 36" *
SOURCE_IMAGE_DATE 1998 8 24 *
SOURCE_IMAGE_ID "NAPP 10485 38" *
SOURCE_IMAGE_DATE 1998 8 24 *
SOURCE_IMAGE_ID "NAPP 10485 155" *
SOURCE_IMAGE_DATE 1998 8 24 *
SOURCE_IMAGE_ID "NAPP 10485 154" *
SOURCE_IMAGE_DATE 1998 8 24 *
SOURCE_IMAGE_ID "NAPP 10485 153" *
SOURCE_IMAGE_DATE 1998 8 24 *
SOURCE_IMAGE_ID "NAPP 10481 150" *
SOURCE_IMAGE_DATE 1998 8 14 *
SOURCE_IMAGE_ID "NAPP 10481 151" *
SOURCE_IMAGE_DATE 1998 8 14 *
SOURCE_IMAGE_ID "NAPP 10481 152" *
SOURCE_IMAGE_DATE 1998 8 14 *
SOURCE_DEM_DATE 1999 0 0 *
AGENCY "WESTERN MAPPING CENTER (WMC)" *
PRODUCER "USDA FS GEOSPATIAL SERVICE AND TECHNOLOGY CENTER" *
PRODUCTION_SYSTEM "ORBIT OR_RECTIFY V.5.2" *
STANDARD_VERSION 1996 12 *
METADATA_DATE 2001 6 22 *
DATA_FILE_SIZE 44472122 *
BYTE_COUNT 5881 * * * * * * * * * * * * * * *
END_USGS_HEADER *
