BEGIN_USGS_DOQ_HEADER *
QUADRANGLE_NAME "DEES PEAK" *
QUADRANT NW *
WEST_LONGITUDE -123 22 30.000 *
EAST_LONGITUDE -123 18 45.000 *
NORTH_LATITUDE 41 7 30.000 *
SOUTH_LATITUDE 41 3 45.000 *
PRODUCTION_DATE 2001 7 19 *
RASTER_ORDER LEFT_RIGHT/TOP_BOTTOM *
BAND_ORGANIZATION "SINGLE FILE" *
BAND_CONTENT BLACK&WHITE *
BITS_PER_PIXEL 8 *
SAMPLES_AND_LINES 5974 7574 *
HORIZONTAL_DATUM NAD83 *
HORIZONTAL_COORDINATE_SYSTEM UTM *
COORDINATE_ZONE 10 *
HORIZONTAL_UNITS METERS *
HORIZONTAL_RESOLUTION 1.0 *
SECONDARY_HORIZONTAL_DATUM NAD27 *
XY_ORIGIN 468094.270 4553001.151 *
SECONDARY_XY_ORIGIN 468190.916 4552804.706 *
NATION US *
STATE CA *
NW_QUAD_CORNER_XY 468521.553 4552701.151 *
NE_QUAD_CORNER_XY 473767.969 4552680.449 *
SE_QUAD_CORNER_XY 473743.095 4545742.228 *
SW_QUAD_CORNER_XY 468491.705 4545762.925 *
SECONDARY_NW_QUAD_XY 468520.707 4552489.038 *
SECONDARY_NE_QUAD_XY 473767.264 4552468.335 *
SECONDARY_SE_QUAD_XY 473742.390 4545530.223 *
SECONDARY_SW_QUAD_XY 468490.858 4545550.919 *
RMSE_XY 4.23 *
IMAGE_SOURCE "BLACK AND WHITE FILM" *
SOURCE_IMAGE_ID "NAPP 10479 119" *
SOURCE_IMAGE_DATE 1998 8 13 *
SOURCE_IMAGE_ID "NAPP 10479 120" *
SOURCE_IMAGE_DATE 1998 8 13 *
SOURCE_IMAGE_ID "NAPP 10479 118" *
SOURCE_IMAGE_DATE 1998 8 13 *
SOURCE_IMAGE_ID "NAPP 10479 51" *
SOURCE_IMAGE_DATE 1998 8 13 *
SOURCE_IMAGE_ID "NAPP 10479 52" *
SOURCE_IMAGE_DATE 1998 8 13 *
SOURCE_IMAGE_ID "NAPP 10479 53" *
SOURCE_IMAGE_DATE 1998 8 13 *
SOURCE_DEM_DATE 2000 0 0 *
AGENCY "WESTERN MAPPING CENTER (WMC)" *
PRODUCER "USDA FS GEOSPATIAL SERVICE AND TECHNOLOGY CENTER" *
PRODUCTION_SYSTEM "ORBIT OR_RECTIFY V.5.2" *
STANDARD_VERSION 1996 12 *
METADATA_DATE 2001 7 24 *
DATA_FILE_SIZE 45253050 *
BYTE_COUNT 5974 * * * * * * * * * * * * * * * * * * * * * *
END_USGS_HEADER *
