BEGIN_USGS_DOQ_HEADER *
QUADRANGLE_NAME "TISH TANG POINT" *
QUADRANT NW *
WEST_LONGITUDE -123 37 30.000 *
EAST_LONGITUDE -123 33 45.000 *
NORTH_LATITUDE 41 7 30.000 *
SOUTH_LATITUDE 41 3 45.000 *
PRODUCTION_DATE 2001 9 6 *
RASTER_ORDER LEFT_RIGHT/TOP_BOTTOM *
BAND_ORGANIZATION "SINGLE FILE" *
BAND_CONTENT BLACK&WHITE *
BITS_PER_PIXEL 8 *
SAMPLES_AND_LINES 5994 7590 *
HORIZONTAL_DATUM NAD83 *
HORIZONTAL_COORDINATE_SYSTEM UTM *
COORDINATE_ZONE 10 *
HORIZONTAL_UNITS METERS *
HORIZONTAL_RESOLUTION 1.0 *
SECONDARY_HORIZONTAL_DATUM NAD27 *
XY_ORIGIN 447087.928 4553121.603 *
SECONDARY_XY_ORIGIN 447184.714 4552925.323 *
NATION US *
STATE CA *
NW_QUAD_CORNER_XY 447535.831 4552821.603 *
NE_QUAD_CORNER_XY 452782.272 4552785.844 *
SE_QUAD_CORNER_XY 452737.499 4545847.591 *
SW_QUAD_CORNER_XY 447486.082 4545883.340 *
SECONDARY_NW_QUAD_XY 447534.417 4552609.492 *
SECONDARY_NE_QUAD_XY 452781.000 4552573.732 *
SECONDARY_SE_QUAD_XY 452736.227 4545635.588 *
SECONDARY_SW_QUAD_XY 447484.669 4545671.337 *
RMSE_XY 0.65 *
IMAGE_SOURCE "BLACK AND WHITE FILM" *
SOURCE_IMAGE_ID "NAPP 10477 52" *
SOURCE_IMAGE_DATE 1998 8 12 *
SOURCE_IMAGE_ID "NAPP 10477 51" *
SOURCE_IMAGE_DATE 1998 8 12 *
SOURCE_IMAGE_ID "NAPP 10477 53" *
SOURCE_IMAGE_DATE 1998 8 12 *
SOURCE_IMAGE_ID "NAPP 10480 92" *
SOURCE_IMAGE_DATE 1998 8 13 *
SOURCE_IMAGE_ID "NAPP 10480 93" *
SOURCE_IMAGE_DATE 1998 8 13 *
SOURCE_IMAGE_ID "NAPP 10480 94" *
SOURCE_IMAGE_DATE 1998 8 13 *
SOURCE_IMAGE_ID "NAPP 10480 35" *
SOURCE_IMAGE_DATE 1998 8 13 *
SOURCE_IMAGE_ID "NAPP 10480 34" *
SOURCE_IMAGE_DATE 1998 8 13 *
SOURCE_IMAGE_ID "NAPP 10480 33" *
SOURCE_IMAGE_DATE 1998 8 13 *
SOURCE_DEM_DATE 1978 1 1 *
AGENCY "WESTERN MAPPING CENTER (WMC)" *
PRODUCER "USDA FS GEOSPATIAL SERVICE AND TECHNOLOGY CENTER" *
PRODUCTION_SYSTEM "ORBIT OR_RECTIFY V.5.2" *
STANDARD_VERSION 1996 12 *
METADATA_DATE 2001 3 29 *
DATA_FILE_SIZE 45500454 *
BYTE_COUNT 5994 * * * * * * * * * * * * * * * *
END_USGS_HEADER *
