BEGIN_USGS_DOQ_HEADER *
QUADRANGLE_NAME "HOOPA" *
QUADRANT SW *
WEST_LONGITUDE -123 45 0.000 *
EAST_LONGITUDE -123 41 15.000 *
NORTH_LATITUDE 41 3 45.000 *
SOUTH_LATITUDE 41 0 0.000 *
PRODUCTION_DATE 2001 5 2 *
RASTER_ORDER LEFT_RIGHT/TOP_BOTTOM *
BAND_ORGANIZATION "SINGLE FILE" *
BAND_CONTENT BLACK&WHITE *
BITS_PER_PIXEL 8 *
SAMPLES_AND_LINES 6010 7597 *
HORIZONTAL_DATUM NAD83 *
HORIZONTAL_COORDINATE_SYSTEM UTM *
COORDINATE_ZONE 10 *
HORIZONTAL_UNITS METERS *
HORIZONTAL_RESOLUTION 1.0 *
SECONDARY_HORIZONTAL_DATUM NAD27 *
XY_ORIGIN 436525.093 4546265.628 *
SECONDARY_XY_ORIGIN 436621.908 4546069.351 *
NATION US *
STATE CA *
NW_QUAD_CORNER_XY 436983.222 4545966.128 *
NE_QUAD_CORNER_XY 442234.657 4545922.852 *
SE_QUAD_CORNER_XY 442180.001 4538984.651 *
SW_QUAD_CORNER_XY 436923.597 4539027.914 *
SECONDARY_NW_QUAD_XY 436981.526 4545754.127 *
SECONDARY_NE_QUAD_XY 442233.103 4545710.851 *
SECONDARY_SE_QUAD_XY 442178.448 4538772.759 *
SECONDARY_SW_QUAD_XY 436921.902 4538816.022 *
RMSE_XY 0.65 *
IMAGE_SOURCE "BLACK AND WHITE FILM" *
SOURCE_IMAGE_ID "NAPP 10477 118" *
SOURCE_IMAGE_DATE 1998 8 12 *
SOURCE_IMAGE_ID "NAPP 10477 119" *
SOURCE_IMAGE_DATE 1998 8 12 *
SOURCE_IMAGE_ID "NAPP 10477 117" *
SOURCE_IMAGE_DATE 1998 8 12 *
SOURCE_IMAGE_ID "NAPP 10478 29" *
SOURCE_IMAGE_DATE 1998 8 12 *
SOURCE_IMAGE_ID "NAPP 10478 30" *
SOURCE_IMAGE_DATE 1998 8 12 *
SOURCE_IMAGE_ID "NAPP 10478 31" *
SOURCE_IMAGE_DATE 1998 8 12 *
SOURCE_IMAGE_ID "NAPP 10480 90" *
SOURCE_IMAGE_DATE 1998 8 13 *
SOURCE_IMAGE_ID "NAPP 10480 91" *
SOURCE_IMAGE_DATE 1998 8 13 *
SOURCE_IMAGE_ID "NAPP 10480 92" *
SOURCE_IMAGE_DATE 1998 8 13 *
SOURCE_DEM_DATE 1979 1 1 *
AGENCY "WESTERN MAPPING CENTER (WMC)" *
PRODUCER "USDA FS GEOSPATIAL SERVICE AND TECHNOLOGY CENTER" *
PRODUCTION_SYSTEM "ORBIT OR_RECTIFY V.5.2" *
STANDARD_VERSION 1996 12 *
METADATA_DATE 2001 3 29 *
DATA_FILE_SIZE 45663980 *
BYTE_COUNT 6010 * * * * * * * * * * * * * * * * *
END_USGS_HEADER *
