BEGIN_USGS_DOQ_HEADER *
QUADRANGLE_NAME "HUPA MOUNTAIN" 3.45 or 7.5-min. name*
QUADRANT SE quadrant indicator if cell size = 3.75-minutes*
WEST_LONGITUDE -123 48 45.000 signed deg min sec SDDD MM SS.SSS*
EAST_LONGITUDE -123 45 0.000 signed deg min sec SDDD MM SS.SSS*
NORTH_LATITUDE 41 3 45.000 signed deg min sec SDDD MM SS.SSS*
SOUTH_LATITUDE 41 0 0.000 signed deg min sec SDDD MM SS.SSS*
PRODUCTION_DATE 1996 2 29 yyyy mm dd*
RASTER_ORDER LEFT_RIGHT/TOP_BOTTOM video display order*
BAND_ORGANIZATION "SINGLE FILE" single file or BSQ, or BIL or BIP*
BAND_CONTENT BLACK&WHITE black&white or red green blue*
BITS_PER_PIXEL 8 radiometric resolution*
SAMPLES_AND_LINES 6024 7611 number of columns and rows*
HORIZONTAL_DATUM NAD83 primary horizontal datum*
HORIZONTAL_COORDINATE_SYSTEM UTM *
COORDINATE_ZONE 10 coordinate system zone number*
HORIZONTAL_UNITS METERS coordinate system units*
HORIZONTAL_RESOLUTION 1.00 pixel horiz. ground sample distance*
SECONDARY_HORIZONTAL_DATUM NAD27 secondary horizontal datum*
XY_ORIGIN 431264.500 4546317.500 coord. of upper left pixel pri. datum*
SECONDARY_XY_ORIGIN 431361.312 4546121.215 coord upper left pixel sec datum*
NATION US nation code*
STATE CA state fip code*
NW_QUAD_CORNER_XY 431731.777 4546013.167 XY coords. of pri. NW quad corner*
NE_QUAD_CORNER_XY 436983.222 4545966.128 XY coords. of pri. NE quad corner*
SE_QUAD_CORNER_XY 436923.597 4539027.914 XY coords. of pri. SE quad corner*
SW_QUAD_CORNER_XY 431667.182 4539074.938 XY coords. of pri. SW quad corner*
SECONDARY_NW_QUAD_XY 431729.937 4545801.166 XY coords. - sec. NW quad cor.*
SECONDARY_NE_QUAD_XY 436981.523 4545754.126 XY coords. - sec. NE quad cor.*
SECONDARY_SE_QUAD_XY 436921.900 4538816.021 XY coords. - sec. SE quad cor.*
SECONDARY_SW_QUAD_XY 431665.343 4538863.047 XY coords. - sec. SW quad cor.*
RMSE_XY 4.50 doq horiz. accuracy*
IMAGE_SOURCE "BLACK AND WHITE FILM" b&w, cir, natural color, other*
SOURCE_IMAGE_ID "NAPP 6250 087" source image id*
SOURCE_IMAGE_DATE 1993 6 24 source image date as yyyy mm dd*
IMAGE_SOURCE "BLACK AND WHITE FILM" b&w, cir, natural color, other*
SOURCE_IMAGE_ID "NAPP 6250 086" source image id*
SOURCE_IMAGE_DATE 1993 6 24 source image date as yyyy mm dd*
IMAGE_SOURCE "BLACK AND WHITE FILM" b&w, cir, natural color, other*
SOURCE_IMAGE_ID "NAPP 6250 088" source image id*
SOURCE_IMAGE_DATE 1993 6 24 source image date as yyyy mm dd*
SOURCE_DEM_DATE 1996 2 29 source dem date yyyy mm dd*
AGENCY "WESTERN MAPPING CENTER (WMC)" oversight agency*
PRODUCER "Woolpert Consultants" producer/contractor*
PRODUCTION_SYSTEM "INTERGRAPH ISPM,ISIR" production system*
STANDARD_VERSION 1996 12 version of DOQ standard*
METADATA_DATE 1997 7 20 date created or changed, yyyy mm dd*
DATA_FILE_SIZE 45854688 data set size in bytes*
BYTE_COUNT 6024 header byte count* * * * * * * * * * * * * * * * * * * * * * * * * * *
END_USGS_HEADER *
