BEGIN_USGS_DOQ_HEADER *
QUADRANGLE_NAME "GRASSHOPPER RIDGE" *
QUADRANT SE *
WEST_LONGITUDE -123 3 45.000 *
EAST_LONGITUDE -123 0 0.000 *
NORTH_LATITUDE 41 11 15.000 *
SOUTH_LATITUDE 41 7 30.000 *
PRODUCTION_DATE 2001 7 26 *
RASTER_ORDER LEFT_RIGHT/TOP_BOTTOM *
BAND_ORGANIZATION "SINGLE FILE" *
BAND_CONTENT BLACK&WHITE *
BITS_PER_PIXEL 8 *
SAMPLES_AND_LINES 5943 7555 *
HORIZONTAL_DATUM NAD83 *
HORIZONTAL_COORDINATE_SYSTEM UTM *
COORDINATE_ZONE 10 *
HORIZONTAL_UNITS METERS *
HORIZONTAL_RESOLUTION 1.0 *
SECONDARY_HORIZONTAL_DATUM NAD27 *
XY_ORIGIN 494357.172 4559873.563 *
SECONDARY_XY_ORIGIN 494453.455 4559676.666 *
NATION US *
STATE CA *
NW_QUAD_CORNER_XY 494758.578 4559573.563 *
NE_QUAD_CORNER_XY 500000.000 4559571.680 *
SE_QUAD_CORNER_XY 500000.000 4552633.399 *
SW_QUAD_CORNER_XY 494753.597 4552635.281 *
SECONDARY_NW_QUAD_XY 494758.440 4559361.341 *
SECONDARY_NE_QUAD_XY 500000.004 4559359.458 *
SECONDARY_SE_QUAD_XY 500000.004 4552421.284 *
SECONDARY_SW_QUAD_XY 494753.459 4552423.166 *
RMSE_XY 1.07 *
IMAGE_SOURCE "BLACK AND WHITE FILM" *
SOURCE_IMAGE_ID "NAPP 10485 222" *
SOURCE_IMAGE_DATE 1998 8 24 *
SOURCE_IMAGE_ID "NAPP 10485 221" *
SOURCE_IMAGE_DATE 1998 8 24 *
SOURCE_IMAGE_ID "NAPP 10485 223" *
SOURCE_IMAGE_DATE 1998 8 24 *
SOURCE_IMAGE_ID "NAPP 10485 258" *
SOURCE_IMAGE_DATE 1998 8 24 *
SOURCE_IMAGE_ID "NAPP 10485 257" *
SOURCE_IMAGE_DATE 1998 8 24 *
SOURCE_IMAGE_ID "NAPP 10485 256" *
SOURCE_IMAGE_DATE 1998 8 24 *
SOURCE_IMAGE_ID "NAPP 10486 39" *
SOURCE_IMAGE_DATE 1998 8 24 *
SOURCE_IMAGE_ID "NAPP 10486 38" *
SOURCE_IMAGE_DATE 1998 8 24 *
SOURCE_IMAGE_ID "NAPP 10486 37" *
SOURCE_IMAGE_DATE 1998 8 24 *
SOURCE_DEM_DATE 2000 0 0 *
AGENCY "WESTERN MAPPING CENTER (WMC)" *
PRODUCER "USDA FS GEOSPATIAL SERVICE AND TECHNOLOGY CENTER" *
PRODUCTION_SYSTEM "ORBIT OR_RECTIFY V.5.2" *
STANDARD_VERSION 1996 12 *
METADATA_DATE 2001 7 27 *
DATA_FILE_SIZE 44905308 *
BYTE_COUNT 5943 * * * * * * * * * * * * * * * *
END_USGS_HEADER *
