BEGIN_USGS_DOQ_HEADER *
QUADRANGLE_NAME "GRASSHOPPER RIDGE" 3.45 or 7.5-min. name*
QUADRANT SW quadrant indicator if cell size = 3.75-minutes*
WEST_LONGITUDE -123 7 30.000 signed deg min sec SDDD MM SS.SSS*
EAST_LONGITUDE -123 3 45.000 signed deg min sec SDDD MM SS.SSS*
NORTH_LATITUDE 41 11 15.000 signed deg min sec SDDD MM SS.SSS*
SOUTH_LATITUDE 41 7 30.000 signed deg min sec SDDD MM SS.SSS*
PRODUCTION_DATE 1996 3 4 yyyy mm dd*
RASTER_ORDER LEFT_RIGHT/TOP_BOTTOM video display order*
BAND_ORGANIZATION "SINGLE FILE" single file or BSQ, or BIL or BIP*
BAND_CONTENT BLACK&WHITE black&white or red green blue*
BITS_PER_PIXEL 8 radiometric resolution*
SAMPLES_AND_LINES 5958 7569 number of columns and rows*
HORIZONTAL_DATUM NAD83 primary horizontal datum*
HORIZONTAL_COORDINATE_SYSTEM UTM *
COORDINATE_ZONE 10 coordinate system zone number*
HORIZONTAL_UNITS METERS coordinate system units*
HORIZONTAL_RESOLUTION 1.00 pixel horiz. ground sample distance*
SECONDARY_HORIZONTAL_DATUM NAD27 secondary horizontal datum*
XY_ORIGIN 489106.500 4559883.500 coord. of upper left pixel pri. datum*
SECONDARY_XY_ORIGIN 489202.874 4559686.700 coord upper left pixel sec datum*
NATION US nation code*
STATE CA state fip code*
NW_QUAD_CORNER_XY 489517.155 4559579.210 XY coords. of pri. NW quad corner*
NE_QUAD_CORNER_XY 494758.578 4559573.563 XY coords. of pri. NE quad corner*
SE_QUAD_CORNER_XY 494753.597 4552635.281 XY coords. of pri. SE quad corner*
SW_QUAD_CORNER_XY 489507.194 4552640.927 XY coords. of pri. SW quad corner*
SECONDARY_NW_QUAD_XY 489516.872 4559366.986 XY coords. - sec. NW quad cor.*
SECONDARY_NE_QUAD_XY 494758.436 4559361.338 XY coords. - sec. NE quad cor.*
SECONDARY_SE_QUAD_XY 494753.456 4552423.163 XY coords. - sec. SE quad cor.*
SECONDARY_SW_QUAD_XY 489506.910 4552428.809 XY coords. - sec. SW quad cor.*
RMSE_XY 4.10 doq horiz. accuracy*
IMAGE_SOURCE "BLACK AND WHITE FILM" b&w, cir, natural color, other*
SOURCE_IMAGE_ID "PAPP 2252 777" source image id*
SOURCE_IMAGE_DATE 1993 7 25 source image date as yyyy mm dd*
IMAGE_SOURCE "BLACK AND WHITE FILM" b&w, cir, natural color, other*
SOURCE_IMAGE_ID "PAPP 2252 676" source image id*
SOURCE_IMAGE_DATE 1993 7 25 source image date as yyyy mm dd*
IMAGE_SOURCE "BLACK AND WHITE FILM" b&w, cir, natural color, other*
SOURCE_IMAGE_ID "PAPP 2252 878" source image id*
SOURCE_IMAGE_DATE 1993 7 25 source image date as yyyy mm dd*
SOURCE_DEM_DATE 1996 3 4 source dem date yyyy mm dd*
AGENCY "WESTERN MAPPING CENTER (WMC)" oversight agency*
PRODUCER "Woolpert Consultants" producer/contractor*
PRODUCTION_SYSTEM "INTERGRAPH ISPM,ISIR" production system*
STANDARD_VERSION 1996 12 version of DOQ standard*
METADATA_DATE 1997 5 24 date created or changed, yyyy mm dd*
DATA_FILE_SIZE 45102060 data set size in bytes*
BYTE_COUNT 5958 header byte count* * * * * * * * * * * * * * * * * * * * * * * * * *
END_USGS_HEADER *
