BEGIN_USGS_DOQ_HEADER *
QUADRANGLE_NAME "YOUNGS PEAK" *
QUADRANT SE *
WEST_LONGITUDE -123 18 45.000 *
EAST_LONGITUDE -123 15 0.000 *
NORTH_LATITUDE 41 11 15.000 *
SOUTH_LATITUDE 41 7 30.000 *
PRODUCTION_DATE 2001 7 26 *
RASTER_ORDER LEFT_RIGHT/TOP_BOTTOM *
BAND_ORGANIZATION "SINGLE FILE" *
BAND_CONTENT BLACK&WHITE *
BITS_PER_PIXEL 8 *
SAMPLES_AND_LINES 5964 7571 *
HORIZONTAL_DATUM NAD83 *
HORIZONTAL_COORDINATE_SYSTEM UTM *
COORDINATE_ZONE 10 *
HORIZONTAL_UNITS METERS *
HORIZONTAL_RESOLUTION 1.0 *
SECONDARY_HORIZONTAL_DATUM NAD27 *
XY_ORIGIN 473370.677 4559918.745 *
SECONDARY_XY_ORIGIN 473467.309 4559722.229 *
NATION US *
STATE CA *
NW_QUAD_CORNER_XY 473792.874 4559618.745 *
NE_QUAD_CORNER_XY 479034.304 4559601.801 *
SE_QUAD_CORNER_XY 479014.380 4552663.511 *
SW_QUAD_CORNER_XY 473767.969 4552680.449 *
SECONDARY_NW_QUAD_XY 473792.169 4559406.523 *
SECONDARY_NE_QUAD_XY 479033.741 4559389.580 *
SECONDARY_SE_QUAD_XY 479013.817 4552451.396 *
SECONDARY_SW_QUAD_XY 473767.264 4552468.335 *
RMSE_XY 1.07 *
IMAGE_SOURCE "BLACK AND WHITE FILM" *
SOURCE_IMAGE_ID "NAPP 10479 54" *
SOURCE_IMAGE_DATE 1998 8 13 *
SOURCE_IMAGE_ID "NAPP 10479 53" *
SOURCE_IMAGE_DATE 1998 8 13 *
SOURCE_IMAGE_ID "NAPP 10479 55" *
SOURCE_IMAGE_DATE 1998 8 13 *
SOURCE_IMAGE_ID "NAPP 10479 118" *
SOURCE_IMAGE_DATE 1998 8 13 *
SOURCE_IMAGE_ID "NAPP 10479 117" *
SOURCE_IMAGE_DATE 1998 8 13 *
SOURCE_IMAGE_ID "NAPP 10479 116" *
SOURCE_IMAGE_DATE 1998 8 13 *
SOURCE_IMAGE_ID "NAPP 10486 169" *
SOURCE_IMAGE_DATE 1998 8 24 *
SOURCE_IMAGE_ID "NAPP 10486 170" *
SOURCE_IMAGE_DATE 1998 8 24 *
SOURCE_IMAGE_ID "NAPP 10486 171" *
SOURCE_IMAGE_DATE 1998 8 24 *
SOURCE_DEM_DATE 2000 0 0 *
AGENCY "WESTERN MAPPING CENTER (WMC)" *
PRODUCER "USDA FS GEOSPATIAL SERVICE AND TECHNOLOGY CENTER" *
PRODUCTION_SYSTEM "ORBIT OR_RECTIFY V.5.2" *
STANDARD_VERSION 1996 12 *
METADATA_DATE 2001 7 27 *
DATA_FILE_SIZE 45159408 *
BYTE_COUNT 5964 * * * * * * * * * * * * * * * *
END_USGS_HEADER *
