BEGIN_USGS_DOQ_HEADER *
QUADRANGLE_NAME "SALMON MOUNTAIN" 3.45 or 7.5-min. name*
QUADRANT SW quadrant indicator if cell size = 3.75-minutes*
WEST_LONGITUDE -123 30 0.000 signed deg min sec SDDD MM SS.SSS*
EAST_LONGITUDE -123 26 15.000 signed deg min sec SDDD MM SS.SSS*
NORTH_LATITUDE 41 11 15.000 signed deg min sec SDDD MM SS.SSS*
SOUTH_LATITUDE 41 7 30.000 signed deg min sec SDDD MM SS.SSS*
PRODUCTION_DATE 1996 2 29 yyyy mm dd*
RASTER_ORDER LEFT_RIGHT/TOP_BOTTOM video display order*
BAND_ORGANIZATION "SINGLE FILE" single file or BSQ, or BIL or BIP*
BAND_CONTENT BLACK&WHITE black&white or red green blue*
BITS_PER_PIXEL 8 radiometric resolution*
SAMPLES_AND_LINES 5989 7592 number of columns and rows*
HORIZONTAL_DATUM NAD83 primary horizontal datum*
HORIZONTAL_COORDINATE_SYSTEM UTM *
COORDINATE_ZONE 10 coordinate system zone number*
HORIZONTAL_UNITS METERS coordinate system units*
HORIZONTAL_RESOLUTION 1.00 pixel horiz. ground sample distance*
SECONDARY_HORIZONTAL_DATUM NAD27 secondary horizontal datum*
XY_ORIGIN 457626.500 4559996.500 coord. of upper left pixel pri. datum*
SECONDARY_XY_ORIGIN 457723.325 4559800.228 coord upper left pixel sec datum*
NATION US nation code*
STATE CA state fip code*
NW_QUAD_CORNER_XY 458068.555 4559692.166 XY coords. of pri. NW quad corner*
NE_QUAD_CORNER_XY 463310.000 4559663.927 XY coords. of pri. NE quad corner*
SE_QUAD_CORNER_XY 463275.133 4552725.618 XY coords. of pri. SE quad corner*
SW_QUAD_CORNER_XY 458028.706 4552753.848 XY coords. of pri. SW quad corner*
SECONDARY_NW_QUAD_XY 458067.421 4559479.944 XY coords. - sec. NW quad cor.*
SECONDARY_NE_QUAD_XY 463309.008 4559451.704 XY coords. - sec. NE quad cor.*
SECONDARY_SE_QUAD_XY 463274.141 4552513.503 XY coords. - sec. SE quad cor.*
SECONDARY_SW_QUAD_XY 458027.573 4552541.734 XY coords. - sec. SW quad cor.*
RMSE_XY 3.90 doq horiz. accuracy*
IMAGE_SOURCE "BLACK AND WHITE FILM" b&w, cir, natural color, other*
SOURCE_IMAGE_ID "PAPP 7257 727" source image id*
SOURCE_IMAGE_DATE 1993 8 27 source image date as yyyy mm dd*
IMAGE_SOURCE "BLACK AND WHITE FILM" b&w, cir, natural color, other*
SOURCE_IMAGE_ID "PAPP 7257 828" source image id*
SOURCE_IMAGE_DATE 1993 8 27 source image date as yyyy mm dd*
IMAGE_SOURCE "BLACK AND WHITE FILM" b&w, cir, natural color, other*
SOURCE_IMAGE_ID "PAPP 7257 626" source image id*
SOURCE_IMAGE_DATE 1993 8 27 source image date as yyyy mm dd*
SOURCE_DEM_DATE 1996 2 29 source dem date yyyy mm dd*
AGENCY "WESTERN MAPPING CENTER (WMC)" oversight agency*
PRODUCER "Woolpert Consultants" producer/contractor*
PRODUCTION_SYSTEM "INTERGRAPH ISPM,ISIR" production system*
STANDARD_VERSION 1996 12 version of DOQ standard*
METADATA_DATE 1997 5 23 date created or changed, yyyy mm dd*
DATA_FILE_SIZE 45474477 data set size in bytes*
BYTE_COUNT 5989 header byte count* * * * * * * * * * * * * * * * * * * * * * * * * *
END_USGS_HEADER *
