BEGIN_USGS_DOQ_HEADER *
QUADRANGLE_NAME "SALMON MOUNTAIN" *
QUADRANT SW *
WEST_LONGITUDE -123 30 0.000 *
EAST_LONGITUDE -123 26 15.000 *
NORTH_LATITUDE 41 11 15.000 *
SOUTH_LATITUDE 41 7 30.000 *
PRODUCTION_DATE 2001 5 2 *
RASTER_ORDER LEFT_RIGHT/TOP_BOTTOM *
BAND_ORGANIZATION "SINGLE FILE" *
BAND_CONTENT BLACK&WHITE *
BITS_PER_PIXEL 8 *
SAMPLES_AND_LINES 5979 7582 *
HORIZONTAL_DATUM NAD83 *
HORIZONTAL_COORDINATE_SYSTEM UTM *
COORDINATE_ZONE 10 *
HORIZONTAL_UNITS METERS *
HORIZONTAL_RESOLUTION 1.0 *
SECONDARY_HORIZONTAL_DATUM NAD27 *
XY_ORIGIN 457631.329 4559992.166 *
SECONDARY_XY_ORIGIN 457728.156 4559795.895 *
NATION US *
STATE CA *
NW_QUAD_CORNER_XY 458068.555 4559692.166 *
NE_QUAD_CORNER_XY 463310.000 4559663.927 *
SE_QUAD_CORNER_XY 463275.133 4552725.618 *
SW_QUAD_CORNER_XY 458028.706 4552753.848 *
SECONDARY_NW_QUAD_XY 458067.423 4559479.945 *
SECONDARY_NE_QUAD_XY 463309.011 4559451.707 *
SECONDARY_SE_QUAD_XY 463274.144 4552513.505 *
SECONDARY_SW_QUAD_XY 458027.575 4552541.736 *
RMSE_XY 0.65 *
IMAGE_SOURCE "BLACK AND WHITE FILM" *
SOURCE_IMAGE_ID "NAPP 10480 222" *
SOURCE_IMAGE_DATE 1998 8 13 *
SOURCE_IMAGE_ID "NAPP 10480 223" *
SOURCE_IMAGE_DATE 1998 8 13 *
SOURCE_IMAGE_ID "NAPP 10480 221" *
SOURCE_IMAGE_DATE 1998 8 13 *
SOURCE_IMAGE_ID "NAPP 10480 33" *
SOURCE_IMAGE_DATE 1998 8 13 *
SOURCE_IMAGE_ID "NAPP 10480 32" *
SOURCE_IMAGE_DATE 1998 8 13 *
SOURCE_IMAGE_ID "NAPP 10480 31" *
SOURCE_IMAGE_DATE 1998 8 13 *
SOURCE_IMAGE_ID "NAPP 10479 223" *
SOURCE_IMAGE_DATE 1998 8 13 *
SOURCE_IMAGE_ID "NAPP 10479 224" *
SOURCE_IMAGE_DATE 1998 8 13 *
SOURCE_IMAGE_ID "NAPP 10479 225" *
SOURCE_IMAGE_DATE 1998 8 13 *
SOURCE_DEM_DATE 1978 1 1 *
AGENCY "WESTERN MAPPING CENTER (WMC)" *
PRODUCER "USDA FS GEOSPATIAL SERVICE AND TECHNOLOGY CENTER" *
PRODUCTION_SYSTEM "ORBIT OR_RECTIFY V.5.2" *
STANDARD_VERSION 1996 12 *
METADATA_DATE 2001 3 29 *
DATA_FILE_SIZE 45338757 *
BYTE_COUNT 5979 * * * * * * * * * * * * * * * *
END_USGS_HEADER *
