BEGIN_USGS_DOQ_HEADER *
QUADRANGLE_NAME "BALD HILLS" 3.45 or 7.5-min. name*
QUADRANT SE quadrant indicator if cell size = 3.75-minutes*
WEST_LONGITUDE -123 56 15.000 signed deg min sec SDDD MM SS.SSS*
EAST_LONGITUDE -123 52 30.000 signed deg min sec SDDD MM SS.SSS*
NORTH_LATITUDE 41 11 15.000 signed deg min sec SDDD MM SS.SSS*
SOUTH_LATITUDE 41 7 30.000 signed deg min sec SDDD MM SS.SSS*
PRODUCTION_DATE 1996 3 18 yyyy mm dd*
RASTER_ORDER LEFT_RIGHT/TOP_BOTTOM video display order*
BAND_ORGANIZATION "SINGLE FILE" single file or BSQ, or BIL or BIP*
BAND_CONTENT BLACK&WHITE black&white or red green blue*
BITS_PER_PIXEL 8 radiometric resolution*
SAMPLES_AND_LINES 6025 7619 number of columns and rows*
HORIZONTAL_DATUM NAD83 primary horizontal datum*
HORIZONTAL_COORDINATE_SYSTEM UTM *
COORDINATE_ZONE 10 coordinate system zone number*
HORIZONTAL_UNITS METERS coordinate system units*
HORIZONTAL_RESOLUTION 1.00 pixel horiz. ground sample distance*
SECONDARY_HORIZONTAL_DATUM NAD27 secondary horizontal datum*
XY_ORIGIN 420899.500 4560300.500 coord. of upper left pixel pri. datum*
SECONDARY_XY_ORIGIN 420996.337 4560104.181 coord upper left pixel sec datum*
NATION US nation code*
STATE CA state fip code*
NW_QUAD_CORNER_XY 421378.201 4559995.279 XY coords. of pri. NW quad corner*
NE_QUAD_CORNER_XY 426619.712 4559940.679 XY coords. of pri. NE quad corner*
SE_QUAD_CORNER_XY 426549.972 4553002.288 XY coords. of pri. SE quad corner*
SW_QUAD_CORNER_XY 421303.479 4553056.871 XY coords. of pri. SW quad corner*
SECONDARY_NW_QUAD_XY 421376.076 4559783.065 XY coords. - sec. NW quad cor.*
SECONDARY_NE_QUAD_XY 426617.728 4559728.464 XY coords. - sec. NE quad cor.*
SECONDARY_SE_QUAD_XY 426547.989 4552790.180 XY coords. - sec. SE quad cor.*
SECONDARY_SW_QUAD_XY 421301.355 4552844.765 XY coords. - sec. SW quad cor.*
RMSE_XY 4.30 doq horiz. accuracy*
IMAGE_SOURCE "BLACK AND WHITE FILM" b&w, cir, natural color, other*
SOURCE_IMAGE_ID "NAPP 6247 057" source image id*
SOURCE_IMAGE_DATE 1993 6 12 source image date as yyyy mm dd*
IMAGE_SOURCE "BLACK AND WHITE FILM" b&w, cir, natural color, other*
SOURCE_IMAGE_ID "NAPP 6247 056" source image id*
SOURCE_IMAGE_DATE 1993 6 12 source image date as yyyy mm dd*
IMAGE_SOURCE "BLACK AND WHITE FILM" b&w, cir, natural color, other*
SOURCE_IMAGE_ID "NAPP 6247 058" source image id*
SOURCE_IMAGE_DATE 1993 6 12 source image date as yyyy mm dd*
SOURCE_DEM_DATE 1996 3 18 source dem date yyyy mm dd*
AGENCY "WESTERN MAPPING CENTER (WMC)" oversight agency*
PRODUCER "Woolpert Consultants" producer/contractor*
PRODUCTION_SYSTEM "INTERGRAPH ISPM,ISIR" production system*
STANDARD_VERSION 1996 12 version of DOQ standard*
METADATA_DATE 1997 7 18 date created or changed, yyyy mm dd*
DATA_FILE_SIZE 45910500 data set size in bytes*
BYTE_COUNT 6025 header byte count* * * * * * * * * * * * * * * * * * * * * * * * * * *
END_USGS_HEADER *
