BEGIN_USGS_DOQ_HEADER *
QUADRANGLE_NAME "SAWYERS BAR" *
QUADRANT NW *
WEST_LONGITUDE -123 15 0.000 *
EAST_LONGITUDE -123 11 15.000 *
NORTH_LATITUDE 41 22 30.000 *
SOUTH_LATITUDE 41 18 45.000 *
PRODUCTION_DATE 2001 7 25 *
RASTER_ORDER LEFT_RIGHT/TOP_BOTTOM *
BAND_ORGANIZATION "SINGLE FILE" *
BAND_CONTENT BLACK&WHITE *
BITS_PER_PIXEL 8 *
SAMPLES_AND_LINES 5944 7567 *
HORIZONTAL_DATUM NAD83 *
HORIZONTAL_COORDINATE_SYSTEM UTM *
COORDINATE_ZONE 10 *
HORIZONTAL_UNITS METERS *
HORIZONTAL_RESOLUTION 1.0 *
SECONDARY_HORIZONTAL_DATUM NAD27 *
XY_ORIGIN 478677.135 4580717.126 *
SECONDARY_XY_ORIGIN 478773.609 4580520.460 *
NATION US *
STATE CA *
NW_QUAD_CORNER_XY 479094.226 4580417.126 *
NE_QUAD_CORNER_XY 484320.672 4580403.936 *
SE_QUAD_CORNER_XY 484305.673 4573465.423 *
SW_QUAD_CORNER_XY 479074.227 4573478.609 *
SECONDARY_NW_QUAD_XY 479093.662 4580204.587 *
SECONDARY_NE_QUAD_XY 484320.251 4580191.397 *
SECONDARY_SE_QUAD_XY 484305.252 4573252.989 *
SECONDARY_SW_QUAD_XY 479073.664 4573266.175 *
RMSE_XY 2.57 *
IMAGE_SOURCE "BLACK AND WHITE FILM" *
SOURCE_IMAGE_ID "NAPP 10486 176" *
SOURCE_IMAGE_DATE 1998 8 24 *
SOURCE_IMAGE_ID "NAPP 10486 175" *
SOURCE_IMAGE_DATE 1998 8 24 *
SOURCE_IMAGE_ID "NAPP 10486 26" *
SOURCE_IMAGE_DATE 1998 8 24 *
SOURCE_IMAGE_ID "NAPP 10479 59" *
SOURCE_IMAGE_DATE 1998 8 13 *
SOURCE_IMAGE_ID "NAPP 10479 60" *
SOURCE_IMAGE_DATE 1998 8 13 *
SOURCE_IMAGE_ID "NAPP 10479 61" *
SOURCE_IMAGE_DATE 1998 8 13 *
SOURCE_IMAGE_ID "NAPP 10481 125" *
SOURCE_IMAGE_DATE 1998 8 14 *
SOURCE_IMAGE_ID "NAPP 10481 126" *
SOURCE_IMAGE_DATE 1998 8 14 *
SOURCE_IMAGE_ID "NAPP 10486 1" *
SOURCE_IMAGE_DATE 1998 8 24 *
SOURCE_DEM_DATE 2000 0 0 *
AGENCY "WESTERN MAPPING CENTER (WMC)" *
PRODUCER "USDA FS GEOSPATIAL SERVICE AND TECHNOLOGY CENTER" *
PRODUCTION_SYSTEM "ORBIT OR_RECTIFY V.5.2" *
STANDARD_VERSION 1996 12 *
METADATA_DATE 2001 7 26 *
DATA_FILE_SIZE 44984192 *
BYTE_COUNT 5944 * * * * * * * * * * * * * * * *
END_USGS_HEADER *
