BEGIN_USGS_DOQ_HEADER *
QUADRANGLE_NAME "ORLEANS MOUNTAIN" *
QUADRANT SW *
WEST_LONGITUDE -123 30 0.000 *
EAST_LONGITUDE -123 26 15.000 *
NORTH_LATITUDE 41 18 45.000 *
SOUTH_LATITUDE 41 15 0.000 *
PRODUCTION_DATE 2001 5 2 *
RASTER_ORDER LEFT_RIGHT/TOP_BOTTOM *
BAND_ORGANIZATION "SINGLE FILE" *
BAND_CONTENT BLACK&WHITE *
BITS_PER_PIXEL 8 *
SAMPLES_AND_LINES 5969 7583 *
HORIZONTAL_DATUM NAD83 *
HORIZONTAL_COORDINATE_SYSTEM UTM *
COORDINATE_ZONE 10 *
HORIZONTAL_UNITS METERS *
HORIZONTAL_RESOLUTION 1.0 *
SECONDARY_HORIZONTAL_DATUM NAD27 *
XY_ORIGIN 457710.921 4573868.526 *
SECONDARY_XY_ORIGIN 457807.783 4573672.287 *
NATION US *
STATE CA *
NW_QUAD_CORNER_XY 458148.402 4573569.026 *
NE_QUAD_CORNER_XY 463379.866 4573540.770 *
SE_QUAD_CORNER_XY 463344.911 4566602.311 *
SW_QUAD_CORNER_XY 458108.453 4566630.559 *
SECONDARY_NW_QUAD_XY 458147.270 4573356.593 *
SECONDARY_NE_QUAD_XY 463378.877 4573328.338 *
SECONDARY_SE_QUAD_XY 463343.922 4566389.985 *
SECONDARY_SW_QUAD_XY 458107.321 4566418.231 *
RMSE_XY 0.65 *
IMAGE_SOURCE "BLACK AND WHITE FILM" *
SOURCE_IMAGE_ID "NAPP 10480 218" *
SOURCE_IMAGE_DATE 1998 8 13 *
SOURCE_IMAGE_ID "NAPP 10480 219" *
SOURCE_IMAGE_DATE 1998 8 13 *
SOURCE_IMAGE_ID "NAPP 10480 217" *
SOURCE_IMAGE_DATE 1998 8 13 *
SOURCE_IMAGE_ID "NAPP 10480 29" *
SOURCE_IMAGE_DATE 1998 8 13 *
SOURCE_IMAGE_ID "NAPP 10480 28" *
SOURCE_IMAGE_DATE 1998 8 13 *
SOURCE_IMAGE_ID "NAPP 10480 27" *
SOURCE_IMAGE_DATE 1998 8 13 *
SOURCE_IMAGE_ID "NAPP 10479 227" *
SOURCE_IMAGE_DATE 1998 8 13 *
SOURCE_IMAGE_ID "NAPP 10479 228" *
SOURCE_IMAGE_DATE 1998 8 13 *
SOURCE_IMAGE_ID "NAPP 10479 229" *
SOURCE_IMAGE_DATE 1998 8 13 *
SOURCE_DEM_DATE 1974 1 1 *
AGENCY "WESTERN MAPPING CENTER (WMC)" *
PRODUCER "USDA FS GEOSPATIAL SERVICE AND TECHNOLOGY CENTER" *
PRODUCTION_SYSTEM "ORBIT OR_RECTIFY V.5.2" *
STANDARD_VERSION 1996 12 *
METADATA_DATE 2001 3 29 *
DATA_FILE_SIZE 45268896 *
BYTE_COUNT 5969 * * * * * * * * * * * * * * * *
END_USGS_HEADER *
