BEGIN_USGS_DOQ_HEADER *
QUADRANGLE_NAME "ORLEANS" *
QUADRANT NE *
WEST_LONGITUDE -123 33 45.000 *
EAST_LONGITUDE -123 30 0.000 *
NORTH_LATITUDE 41 22 30.000 *
SOUTH_LATITUDE 41 18 45.000 *
PRODUCTION_DATE 2001 5 2 *
RASTER_ORDER LEFT_RIGHT/TOP_BOTTOM *
BAND_ORGANIZATION "SINGLE FILE" *
BAND_CONTENT BLACK&WHITE *
BITS_PER_PIXEL 8 *
SAMPLES_AND_LINES 5970 7587 *
HORIZONTAL_DATUM NAD83 *
HORIZONTAL_COORDINATE_SYSTEM UTM *
COORDINATE_ZONE 10 *
HORIZONTAL_UNITS METERS *
HORIZONTAL_RESOLUTION 1.0 *
SECONDARY_HORIZONTAL_DATUM NAD27 *
XY_ORIGIN 452518.804 4580839.101 *
SECONDARY_XY_ORIGIN 452615.626 4580642.860 *
NATION US *
STATE CA *
NW_QUAD_CORNER_XY 452961.931 4580539.601 *
NE_QUAD_CORNER_XY 458188.401 4580507.569 *
SE_QUAD_CORNER_XY 458148.402 4573569.026 *
SW_QUAD_CORNER_XY 452916.932 4573601.049 *
SECONDARY_NW_QUAD_XY 452960.656 4580327.064 *
SECONDARY_NE_QUAD_XY 458187.268 4580295.031 *
SECONDARY_SE_QUAD_XY 458147.270 4573356.593 *
SECONDARY_SW_QUAD_XY 452915.657 4573388.617 *
RMSE_XY 0.65 *
IMAGE_SOURCE "BLACK AND WHITE FILM" *
SOURCE_IMAGE_ID "NAPP 10480 26" *
SOURCE_IMAGE_DATE 1998 8 13 *
SOURCE_IMAGE_ID "NAPP 10480 27" *
SOURCE_IMAGE_DATE 1998 8 13 *
SOURCE_IMAGE_ID "NAPP 10480 25" *
SOURCE_IMAGE_DATE 1998 8 13 *
SOURCE_IMAGE_ID "NAPP 10477 59" *
SOURCE_IMAGE_DATE 1998 8 12 *
SOURCE_IMAGE_ID "NAPP 10477 60" *
SOURCE_IMAGE_DATE 1998 8 12 *
SOURCE_IMAGE_ID "NAPP 10477 61" *
SOURCE_IMAGE_DATE 1998 8 12 *
SOURCE_IMAGE_ID "NAPP 10480 217" *
SOURCE_IMAGE_DATE 1998 8 13 *
SOURCE_IMAGE_ID "NAPP 10480 216" *
SOURCE_IMAGE_DATE 1998 8 13 *
SOURCE_IMAGE_ID "NAPP 10480 215" *
SOURCE_IMAGE_DATE 1998 8 13 *
SOURCE_DEM_DATE 1978 1 1 *
AGENCY "WESTERN MAPPING CENTER (WMC)" *
PRODUCER "USDA FS GEOSPATIAL SERVICE AND TECHNOLOGY CENTER" *
PRODUCTION_SYSTEM "ORBIT OR_RECTIFY V.5.2" *
STANDARD_VERSION 1996 12 *
METADATA_DATE 2001 3 29 *
DATA_FILE_SIZE 45300360 *
BYTE_COUNT 5970 * * * * * * * * * * * * * * * *
END_USGS_HEADER *
