BEGIN_USGS_DOQ_HEADER *
QUADRANGLE_NAME "ORLEANS" 3.45 or 7.5-min. name*
QUADRANT SE quadrant indicator if cell size = 3.75-minutes*
WEST_LONGITUDE -123 33 45.000 signed deg min sec SDDD MM SS.SSS*
EAST_LONGITUDE -123 30 0.000 signed deg min sec SDDD MM SS.SSS*
NORTH_LATITUDE 41 18 45.000 signed deg min sec SDDD MM SS.SSS*
SOUTH_LATITUDE 41 15 0.000 signed deg min sec SDDD MM SS.SSS*
PRODUCTION_DATE 1996 2 16 yyyy mm dd*
RASTER_ORDER LEFT_RIGHT/TOP_BOTTOM video display order*
BAND_ORGANIZATION "SINGLE FILE" single file or BSQ, or BIL or BIP*
BAND_CONTENT BLACK&WHITE black&white or red green blue*
BITS_PER_PIXEL 8 radiometric resolution*
SAMPLES_AND_LINES 5984 7597 number of columns and rows*
HORIZONTAL_DATUM NAD83 primary horizontal datum*
HORIZONTAL_COORDINATE_SYSTEM UTM *
COORDINATE_ZONE 10 coordinate system zone number*
HORIZONTAL_UNITS METERS coordinate system units*
HORIZONTAL_RESOLUTION 1.00 pixel horiz. ground sample distance*
SECONDARY_HORIZONTAL_DATUM NAD27 secondary horizontal datum*
XY_ORIGIN 452469.500 4573905.500 coord. of upper left pixel pri. datum*
SECONDARY_XY_ORIGIN 452566.349 4573709.268 coord upper left pixel sec datum*
NATION US nation code*
STATE CA state fip code*
NW_QUAD_CORNER_XY 452916.932 4573601.049 XY coords. of pri. NW quad corner*
NE_QUAD_CORNER_XY 458148.402 4573569.026 XY coords. of pri. NE quad corner*
SE_QUAD_CORNER_XY 458108.453 4566630.559 XY coords. of pri. SE quad corner*
SW_QUAD_CORNER_XY 452871.989 4566662.573 XY coords. of pri. SW quad corner*
SECONDARY_NW_QUAD_XY 452915.655 4573388.616 XY coords. - sec. NW quad cor.*
SECONDARY_NE_QUAD_XY 458147.268 4573356.592 XY coords. - sec. NE quad cor.*
SECONDARY_SE_QUAD_XY 458107.319 4566418.230 XY coords. - sec. SE quad cor.*
SECONDARY_SW_QUAD_XY 452870.713 4566450.245 XY coords. - sec. SW quad cor.*
RMSE_XY 4.20 doq horiz. accuracy*
IMAGE_SOURCE "BLACK AND WHITE FILM" b&w, cir, natural color, other*
SOURCE_IMAGE_ID "PAPP 7257 787" source image id*
SOURCE_IMAGE_DATE 1993 8 27 source image date as yyyy mm dd*
SOURCE_DEM_DATE 1996 2 16 source dem date yyyy mm dd*
AGENCY "WESTERN MAPPING CENTER (WMC)" oversight agency*
PRODUCER "Woolpert Consultants" producer/contractor*
PRODUCTION_SYSTEM "INTERGRAPH ISPM,ISIR" production system*
STANDARD_VERSION 1996 12 version of DOQ standard*
METADATA_DATE 1997 5 23 date created or changed, yyyy mm dd*
DATA_FILE_SIZE 45466432 data set size in bytes*
BYTE_COUNT 5984 header byte count* * * * * * * * * * * * * * * * * * * * * * * * * * * * * * * *
END_USGS_HEADER *
