BEGIN_USGS_DOQ_HEADER *
QUADRANGLE_NAME "FISH LAKE" 3.45 or 7.5-min. name*
QUADRANT NW quadrant indicator if cell size = 3.75-minutes*
WEST_LONGITUDE -123 45 0.000 signed deg min sec SDDD MM SS.SSS*
EAST_LONGITUDE -123 41 15.000 signed deg min sec SDDD MM SS.SSS*
NORTH_LATITUDE 41 22 30.000 signed deg min sec SDDD MM SS.SSS*
SOUTH_LATITUDE 41 18 45.000 signed deg min sec SDDD MM SS.SSS*
PRODUCTION_DATE 1996 2 16 yyyy mm dd*
RASTER_ORDER LEFT_RIGHT/TOP_BOTTOM video display order*
BAND_ORGANIZATION "SINGLE FILE" single file or BSQ, or BIL or BIP*
BAND_CONTENT BLACK&WHITE black&white or red green blue*
BITS_PER_PIXEL 8 radiometric resolution*
SAMPLES_AND_LINES 5995 7608 number of columns and rows*
HORIZONTAL_DATUM NAD83 primary horizontal datum*
HORIZONTAL_COORDINATE_SYSTEM UTM *
COORDINATE_ZONE 10 coordinate system zone number*
HORIZONTAL_UNITS METERS coordinate system units*
HORIZONTAL_RESOLUTION 1.00 pixel horiz. ground sample distance*
SECONDARY_HORIZONTAL_DATUM NAD27 secondary horizontal datum*
XY_ORIGIN 436819.500 4580962.500 coord. of upper left pixel pri. datum*
SECONDARY_XY_ORIGIN 436916.307 4580766.274 coord upper left pixel sec datum*
NATION US nation code*
STATE CA state fip code*
NW_QUAD_CORNER_XY 437282.474 4580658.311 XY coords. of pri. NW quad corner*
NE_QUAD_CORNER_XY 442508.968 4580614.972 XY coords. of pri. NE quad corner*
SE_QUAD_CORNER_XY 442453.968 4573676.399 XY coords. of pri. SE quad corner*
SW_QUAD_CORNER_XY 437222.474 4573719.726 XY coords. of pri. SW quad corner*
SECONDARY_NW_QUAD_XY 437280.771 4580445.776 XY coords. - sec. NW quad cor.*
SECONDARY_NE_QUAD_XY 442507.407 4580402.436 XY coords. - sec. NE quad cor.*
SECONDARY_SE_QUAD_XY 442452.408 4573463.968 XY coords. - sec. SE quad cor.*
SECONDARY_SW_QUAD_XY 437220.771 4573507.296 XY coords. - sec. SW quad cor.*
RMSE_XY 3.90 doq horiz. accuracy*
IMAGE_SOURCE "BLACK AND WHITE FILM" b&w, cir, natural color, other*
SOURCE_IMAGE_ID "PAPP 6246 969" source image id*
SOURCE_IMAGE_DATE 1993 6 12 source image date as yyyy mm dd*
IMAGE_SOURCE "BLACK AND WHITE FILM" b&w, cir, natural color, other*
SOURCE_IMAGE_ID "PAPP 6246 070" source image id*
SOURCE_IMAGE_DATE 1993 6 12 source image date as yyyy mm dd*
SOURCE_DEM_DATE 1996 2 16 source dem date yyyy mm dd*
AGENCY "WESTERN MAPPING CENTER (WMC)" oversight agency*
PRODUCER "Woolpert Consultants" producer/contractor*
PRODUCTION_SYSTEM "INTERGRAPH ISPM,ISIR" production system*
STANDARD_VERSION 1996 12 version of DOQ standard*
METADATA_DATE 1997 5 23 date created or changed, yyyy mm dd*
DATA_FILE_SIZE 45615955 data set size in bytes*
BYTE_COUNT 5995 header byte count* * * * * * * * * * * * * * * * * * * * * * * * * * * * *
END_USGS_HEADER *
