BEGIN_USGS_DOQ_HEADER *
QUADRANGLE_NAME "JOHNSONS" *
QUADRANT SW *
WEST_LONGITUDE -123 52 30.000 *
EAST_LONGITUDE -123 48 45.000 *
NORTH_LATITUDE 41 18 45.000 *
SOUTH_LATITUDE 41 15 0.000 *
PRODUCTION_DATE 2001 5 2 *
RASTER_ORDER LEFT_RIGHT/TOP_BOTTOM *
BAND_ORGANIZATION "SINGLE FILE" *
BAND_CONTENT BLACK&WHITE *
BITS_PER_PIXEL 8 *
SAMPLES_AND_LINES 6000 7605 *
HORIZONTAL_DATUM NAD83 *
HORIZONTAL_COORDINATE_SYSTEM UTM *
COORDINATE_ZONE 10 *
HORIZONTAL_UNITS METERS *
HORIZONTAL_RESOLUTION 1.0 *
SECONDARY_HORIZONTAL_DATUM NAD27 *
XY_ORIGIN 426290.713 4574117.184 *
SECONDARY_XY_ORIGIN 426387.531 4573920.874 *
NATION US *
STATE CA *
NW_QUAD_CORNER_XY 426759.454 4573817.684 *
NE_QUAD_CORNER_XY 431990.969 4573766.821 *
SE_QUAD_CORNER_XY 431926.049 4566828.296 *
SW_QUAD_CORNER_XY 426689.539 4566879.145 *
SECONDARY_NW_QUAD_XY 426757.470 4573605.257 *
SECONDARY_NE_QUAD_XY 431989.127 4573554.392 *
SECONDARY_SE_QUAD_XY 431924.208 4566615.973 *
SECONDARY_SW_QUAD_XY 426687.556 4566666.823 *
RMSE_XY 0.65 *
IMAGE_SOURCE "BLACK AND WHITE FILM" *
SOURCE_IMAGE_ID "NAPP 10478 183" *
SOURCE_IMAGE_DATE 1998 8 12 *
SOURCE_IMAGE_ID "NAPP 10478 182" *
SOURCE_IMAGE_DATE 1998 8 12 *
SOURCE_IMAGE_ID "NAPP 10478 184" *
SOURCE_IMAGE_DATE 1998 8 12 *
SOURCE_IMAGE_ID "NAPP 10478 37" *
SOURCE_IMAGE_DATE 1998 8 12 *
SOURCE_IMAGE_ID "NAPP 10478 38" *
SOURCE_IMAGE_DATE 1998 8 12 *
SOURCE_IMAGE_ID "NAPP 10478 39" *
SOURCE_IMAGE_DATE 1998 8 12 *
SOURCE_DEM_DATE 1994 0 0 *
AGENCY "WESTERN MAPPING CENTER (WMC)" *
PRODUCER "USDA FS GEOSPATIAL SERVICE AND TECHNOLOGY CENTER" *
PRODUCTION_SYSTEM "ORBIT OR_RECTIFY V.5.2" *
STANDARD_VERSION 1996 12 *
METADATA_DATE 2001 3 29 *
DATA_FILE_SIZE 45636000 *
BYTE_COUNT 6000 * * * * * * * * * * * * * * * * * * * * * *
END_USGS_HEADER *
