BEGIN_USGS_DOQ_HEADER *
QUADRANGLE_NAME "YELLOW DOG PEAK" *
QUADRANT NE *
WEST_LONGITUDE -123 3 45.000 *
EAST_LONGITUDE -123 0 0.000 *
NORTH_LATITUDE 41 30 0.000 *
SOUTH_LATITUDE 41 26 15.000 *
PRODUCTION_DATE 2001 7 25 *
RASTER_ORDER LEFT_RIGHT/TOP_BOTTOM *
BAND_ORGANIZATION "SINGLE FILE" *
BAND_CONTENT BLACK&WHITE *
BITS_PER_PIXEL 8 *
SAMPLES_AND_LINES 5918 7556 *
HORIZONTAL_DATUM NAD83 *
HORIZONTAL_COORDINATE_SYSTEM UTM *
COORDINATE_ZONE 10 *
HORIZONTAL_UNITS METERS *
HORIZONTAL_RESOLUTION 1.0 *
SECONDARY_HORIZONTAL_DATUM NAD27 *
XY_ORIGIN 494382.453 4594566.107 *
SECONDARY_XY_ORIGIN 494478.336 4594369.086 *
NATION US *
STATE CA *
NW_QUAD_CORNER_XY 494783.577 4594266.107 *
NE_QUAD_CORNER_XY 500000.000 4594264.222 *
SE_QUAD_CORNER_XY 500000.000 4587325.563 *
SW_QUAD_CORNER_XY 494778.565 4587327.447 *
SECONDARY_NW_QUAD_XY 494783.440 4594053.360 *
SECONDARY_NE_QUAD_XY 500000.005 4594051.475 *
SECONDARY_SE_QUAD_XY 500000.005 4587112.919 *
SECONDARY_SW_QUAD_XY 494778.428 4587114.804 *
RMSE_XY 2.57 *
IMAGE_SOURCE "BLACK AND WHITE FILM" *
SOURCE_IMAGE_ID "NAPP 10485 232" *
SOURCE_IMAGE_DATE 1998 8 24 *
SOURCE_IMAGE_ID "NAPP 10485 231" *
SOURCE_IMAGE_DATE 1998 8 24 *
SOURCE_IMAGE_ID "NAPP 10485 233" *
SOURCE_IMAGE_DATE 1998 8 24 *
SOURCE_IMAGE_ID "NAPP 10485 248" *
SOURCE_IMAGE_DATE 1998 8 24 *
SOURCE_IMAGE_ID "NAPP 10485 247" *
SOURCE_IMAGE_DATE 1998 8 24 *
SOURCE_IMAGE_ID "NAPP 10485 246" *
SOURCE_IMAGE_DATE 1998 8 24 *
SOURCE_IMAGE_ID "NAPP 10486 29" *
SOURCE_IMAGE_DATE 1998 8 24 *
SOURCE_IMAGE_ID "NAPP 10486 28" *
SOURCE_IMAGE_DATE 1998 8 24 *
SOURCE_IMAGE_ID "NAPP 10485 169" *
SOURCE_IMAGE_DATE 1998 8 24 *
SOURCE_DEM_DATE 2000 0 0 *
AGENCY "WESTERN MAPPING CENTER (WMC)" *
PRODUCER "USDA FS GEOSPATIAL SERVICE AND TECHNOLOGY CENTER" *
PRODUCTION_SYSTEM "ORBIT OR_RECTIFY V.5.2" *
STANDARD_VERSION 1996 12 *
METADATA_DATE 2001 7 26 *
DATA_FILE_SIZE 44722326 *
BYTE_COUNT 5918 * * * * * * * * * * * * * * *
END_USGS_HEADER *
