BEGIN_USGS_DOQ_HEADER *
QUADRANGLE_NAME "YELLOW DOG PEAK" 3.45 or 7.5-min. name*
QUADRANT NW quadrant indicator if cell size = 3.75-minutes*
WEST_LONGITUDE -123 7 30.000 signed deg min sec SDDD MM SS.SSS*
EAST_LONGITUDE -123 3 45.000 signed deg min sec SDDD MM SS.SSS*
NORTH_LATITUDE 41 30 0.000 signed deg min sec SDDD MM SS.SSS*
SOUTH_LATITUDE 41 26 15.000 signed deg min sec SDDD MM SS.SSS*
PRODUCTION_DATE 1996 3 4 yyyy mm dd*
RASTER_ORDER LEFT_RIGHT/TOP_BOTTOM video display order*
BAND_ORGANIZATION "SINGLE FILE" single file or BSQ, or BIL or BIP*
BAND_CONTENT BLACK&WHITE black&white or red green blue*
BITS_PER_PIXEL 8 radiometric resolution*
SAMPLES_AND_LINES 5933 7570 number of columns and rows*
HORIZONTAL_DATUM NAD83 primary horizontal datum*
HORIZONTAL_COORDINATE_SYSTEM UTM *
COORDINATE_ZONE 10 coordinate system zone number*
HORIZONTAL_UNITS METERS coordinate system units*
HORIZONTAL_RESOLUTION 1.00 pixel horiz. ground sample distance*
SECONDARY_HORIZONTAL_DATUM NAD27 secondary horizontal datum*
XY_ORIGIN 489156.500 4594576.500 coord. of upper left pixel pri. datum*
SECONDARY_XY_ORIGIN 489252.538 4594379.579 coord upper left pixel sec datum*
NATION US nation code*
STATE CA state fip code*
NW_QUAD_CORNER_XY 489567.153 4594271.763 XY coords. of pri. NW quad corner*
NE_QUAD_CORNER_XY 494783.577 4594266.107 XY coords. of pri. NE quad corner*
SE_QUAD_CORNER_XY 494778.565 4587327.447 XY coords. of pri. SE quad corner*
SW_QUAD_CORNER_XY 489557.128 4587333.101 XY coords. of pri. SW quad corner*
SECONDARY_NW_QUAD_XY 489566.869 4594059.013 XY coords. - sec. NW quad cor.*
SECONDARY_NE_QUAD_XY 494783.435 4594053.357 XY coords. - sec. NE quad cor.*
SECONDARY_SE_QUAD_XY 494778.423 4587114.800 XY coords. - sec. SE quad cor.*
SECONDARY_SW_QUAD_XY 489556.844 4587120.455 XY coords. - sec. SW quad cor.*
RMSE_XY 5.30 doq horiz. accuracy*
IMAGE_SOURCE "BLACK AND WHITE FILM" b&w, cir, natural color, other*
SOURCE_IMAGE_ID "PAPP 0260 464" source image id*
SOURCE_IMAGE_DATE 1994 8 10 source image date as yyyy mm dd*
IMAGE_SOURCE "BLACK AND WHITE FILM" b&w, cir, natural color, other*
SOURCE_IMAGE_ID "PAPP 0260 565" source image id*
SOURCE_IMAGE_DATE 1994 8 10 source image date as yyyy mm dd*
IMAGE_SOURCE "BLACK AND WHITE FILM" b&w, cir, natural color, other*
SOURCE_IMAGE_ID "PAPP 0260 363" source image id*
SOURCE_IMAGE_DATE 1994 8 10 source image date as yyyy mm dd*
SOURCE_DEM_DATE 1996 3 4 source dem date yyyy mm dd*
AGENCY "WESTERN MAPPING CENTER (WMC)" oversight agency*
PRODUCER "Woolpert Consultants" producer/contractor*
PRODUCTION_SYSTEM "INTERGRAPH ISPM,ISIR" production system*
STANDARD_VERSION 1996 12 version of DOQ standard*
METADATA_DATE 1997 5 24 date created or changed, yyyy mm dd*
DATA_FILE_SIZE 44918743 data set size in bytes*
BYTE_COUNT 5933 header byte count* * * * * * * * * * * * * * * * * * * * * * * * * *
END_USGS_HEADER *
