BEGIN_USGS_DOQ_HEADER *
QUADRANGLE_NAME "MEDICINE MOUNTAIN" *
QUADRANT SE *
WEST_LONGITUDE -123 18 45.000 *
EAST_LONGITUDE -123 15 0.000 *
NORTH_LATITUDE 41 26 15.000 *
SOUTH_LATITUDE 41 22 30.000 *
PRODUCTION_DATE 2001 7 25 *
RASTER_ORDER LEFT_RIGHT/TOP_BOTTOM *
BAND_ORGANIZATION "SINGLE FILE" *
BAND_CONTENT BLACK&WHITE *
BITS_PER_PIXEL 8 *
SAMPLES_AND_LINES 5944 7571 *
HORIZONTAL_DATUM NAD83 *
HORIZONTAL_COORDINATE_SYSTEM UTM *
COORDINATE_ZONE 10 *
HORIZONTAL_UNITS METERS *
HORIZONTAL_RESOLUTION 1.0 *
SECONDARY_HORIZONTAL_DATUM NAD27 *
XY_ORIGIN 473470.511 4587672.681 *
SECONDARY_XY_ORIGIN 473567.023 4587476.103 *
NATION US *
STATE CA *
NW_QUAD_CORNER_XY 473892.807 4587372.681 *
NE_QUAD_CORNER_XY 479114.250 4587355.718 *
SE_QUAD_CORNER_XY 479094.226 4580417.126 *
SW_QUAD_CORNER_XY 473867.777 4580434.084 *
SECONDARY_NW_QUAD_XY 473892.101 4587160.038 *
SECONDARY_NE_QUAD_XY 479113.686 4587143.075 *
SECONDARY_SE_QUAD_XY 479093.662 4580204.587 *
SECONDARY_SW_QUAD_XY 473867.071 4580221.545 *
RMSE_XY 2.57 *
IMAGE_SOURCE "BLACK AND WHITE FILM" *
SOURCE_IMAGE_ID "NAPP 10479 62" *
SOURCE_IMAGE_DATE 1998 8 13 *
SOURCE_IMAGE_ID "NAPP 10479 61" *
SOURCE_IMAGE_DATE 1998 8 13 *
SOURCE_IMAGE_ID "NAPP 10479 63" *
SOURCE_IMAGE_DATE 1998 8 13 *
SOURCE_IMAGE_ID "NAPP 10479 110" *
SOURCE_IMAGE_DATE 1998 8 13 *
SOURCE_IMAGE_ID "NAPP 10479 109" *
SOURCE_IMAGE_DATE 1998 8 13 *
SOURCE_IMAGE_ID "NAPP 10479 108" *
SOURCE_IMAGE_DATE 1998 8 13 *
SOURCE_IMAGE_ID "NAPP 10486 26" *
SOURCE_IMAGE_DATE 1998 8 24 *
SOURCE_IMAGE_ID "NAPP 10486 25" *
SOURCE_IMAGE_DATE 1998 8 24 *
SOURCE_IMAGE_ID "NAPP 10486 24" *
SOURCE_IMAGE_DATE 1998 8 24 *
SOURCE_DEM_DATE 2000 0 0 *
AGENCY "WESTERN MAPPING CENTER (WMC)" *
PRODUCER "USDA FS GEOSPATIAL SERVICE AND TECHNOLOGY CENTER" *
PRODUCTION_SYSTEM "ORBIT OR_RECTIFY V.5.2" *
STANDARD_VERSION 1996 12 *
METADATA_DATE 2001 7 26 *
DATA_FILE_SIZE 45007968 *
BYTE_COUNT 5944 * * * * * * * * * * * * * * * *
END_USGS_HEADER *
