BEGIN_USGS_DOQ_HEADER *
QUADRANGLE_NAME "SOMES BAR" *
QUADRANT SW *
WEST_LONGITUDE -123 30 0.000 *
EAST_LONGITUDE -123 26 15.000 *
NORTH_LATITUDE 41 26 15.000 *
SOUTH_LATITUDE 41 22 30.000 *
PRODUCTION_DATE 2001 7 25 *
RASTER_ORDER LEFT_RIGHT/TOP_BOTTOM *
BAND_ORGANIZATION "SINGLE FILE" *
BAND_CONTENT BLACK&WHITE *
BITS_PER_PIXEL 8 *
SAMPLES_AND_LINES 5959 7583 *
HORIZONTAL_DATUM NAD83 *
HORIZONTAL_COORDINATE_SYSTEM UTM *
COORDINATE_ZONE 10 *
HORIZONTAL_UNITS METERS *
HORIZONTAL_RESOLUTION 1.0 *
SECONDARY_HORIZONTAL_DATUM NAD27 *
XY_ORIGIN 457790.440 4587746.186 *
SECONDARY_XY_ORIGIN 457887.230 4587549.929 *
NATION US *
STATE CA *
NW_QUAD_CORNER_XY 458228.450 4587446.186 *
NE_QUAD_CORNER_XY 463449.908 4587417.915 *
SE_QUAD_CORNER_XY 463414.865 4580479.305 *
SW_QUAD_CORNER_XY 458188.401 4580507.569 *
SECONDARY_NW_QUAD_XY 458227.317 4587233.544 *
SECONDARY_NE_QUAD_XY 463448.918 4587205.274 *
SECONDARY_SE_QUAD_XY 463413.876 4580266.768 *
SECONDARY_SW_QUAD_XY 458187.268 4580295.031 *
RMSE_XY 2.57 *
IMAGE_SOURCE "BLACK AND WHITE FILM" *
SOURCE_IMAGE_ID "NAPP 10480 214" *
SOURCE_IMAGE_DATE 1998 8 13 *
SOURCE_IMAGE_ID "NAPP 10480 215" *
SOURCE_IMAGE_DATE 1998 8 13 *
SOURCE_IMAGE_ID "NAPP 10480 213" *
SOURCE_IMAGE_DATE 1998 8 13 *
SOURCE_IMAGE_ID "NAPP 10479 231" *
SOURCE_IMAGE_DATE 1998 8 13 *
SOURCE_IMAGE_ID "NAPP 10479 232" *
SOURCE_IMAGE_DATE 1998 8 13 *
SOURCE_IMAGE_ID "NAPP 10479 233" *
SOURCE_IMAGE_DATE 1998 8 13 *
SOURCE_DEM_DATE 1999 0 0 *
AGENCY "WESTERN MAPPING CENTER (WMC)" *
PRODUCER "USDA FS GEOSPATIAL SERVICE AND TECHNOLOGY CENTER" *
PRODUCTION_SYSTEM "ORBIT OR_RECTIFY V.5.2" *
STANDARD_VERSION 1996 12 *
METADATA_DATE 2001 7 26 *
DATA_FILE_SIZE 45193056 *
BYTE_COUNT 5959 * * * * * * * * * * * * * * * * * * * * * *
END_USGS_HEADER *
