BEGIN_USGS_DOQ_HEADER *
QUADRANGLE_NAME "LONESOME RIDGE" *
QUADRANT NE *
WEST_LONGITUDE -123 41 15.000 *
EAST_LONGITUDE -123 37 30.000 *
NORTH_LATITUDE 41 30 0.000 *
SOUTH_LATITUDE 41 26 15.000 *
PRODUCTION_DATE 2001 5 2 *
RASTER_ORDER LEFT_RIGHT/TOP_BOTTOM *
BAND_ORGANIZATION "SINGLE FILE" *
BAND_CONTENT BLACK&WHITE *
BITS_PER_PIXEL 8 *
SAMPLES_AND_LINES 5970 7595 *
HORIZONTAL_DATUM NAD83 *
HORIZONTAL_COORDINATE_SYSTEM UTM *
COORDINATE_ZONE 10 *
HORIZONTAL_UNITS METERS *
HORIZONTAL_RESOLUTION 1.0 *
SECONDARY_HORIZONTAL_DATUM NAD27 *
XY_ORIGIN 442165.680 4594791.842 *
SECONDARY_XY_ORIGIN 442262.457 4594595.594 *
NATION US *
STATE CA *
NW_QUAD_CORNER_XY 442619.175 4594492.342 *
NE_QUAD_CORNER_XY 447835.640 4594452.750 *
SE_QUAD_CORNER_XY 447785.516 4587514.039 *
SW_QUAD_CORNER_XY 442564.037 4587553.620 *
SECONDARY_NW_QUAD_XY 442617.614 4594279.599 *
SECONDARY_NE_QUAD_XY 447834.222 4594240.006 *
SECONDARY_SE_QUAD_XY 447784.098 4587301.398 *
SECONDARY_SW_QUAD_XY 442562.478 4587340.980 *
RMSE_XY 0.65 *
IMAGE_SOURCE "BLACK AND WHITE FILM" *
SOURCE_IMAGE_ID "NAPP 10480 105" *
SOURCE_IMAGE_DATE 1998 8 13 *
SOURCE_IMAGE_ID "NAPP 10480 104" *
SOURCE_IMAGE_DATE 1998 8 13 *
SOURCE_IMAGE_ID "NAPP 10480 106" *
SOURCE_IMAGE_DATE 1998 8 13 *
SOURCE_IMAGE_ID "NAPP 10477 105" *
SOURCE_IMAGE_DATE 1998 8 12 *
SOURCE_IMAGE_ID "NAPP 10477 104" *
SOURCE_IMAGE_DATE 1998 8 12 *
SOURCE_IMAGE_ID "NAPP 10477 103" *
SOURCE_IMAGE_DATE 1998 8 12 *
SOURCE_IMAGE_ID "NAPP 10477 63" *
SOURCE_IMAGE_DATE 1998 8 12 *
SOURCE_IMAGE_ID "NAPP 10477 64" *
SOURCE_IMAGE_DATE 1998 8 12 *
SOURCE_IMAGE_ID "NAPP 10477 65" *
SOURCE_IMAGE_DATE 1998 8 12 *
SOURCE_DEM_DATE 2001 1 1 *
AGENCY "WESTERN MAPPING CENTER (WMC)" *
PRODUCER "USDA FS GEOSPATIAL SERVICE AND TECHNOLOGY CENTER" *
PRODUCTION_SYSTEM "ORBIT OR_RECTIFY V.5.2" *
STANDARD_VERSION 1996 12 *
METADATA_DATE 2001 3 29 *
DATA_FILE_SIZE 45348120 *
BYTE_COUNT 5970 * * * * * * * * * * * * * * * *
END_USGS_HEADER *
