BEGIN_USGS_DOQ_HEADER *
QUADRANGLE_NAME "LONESOME RIDGE" *
QUADRANT NW *
WEST_LONGITUDE -123 45 0.000 *
EAST_LONGITUDE -123 41 15.000 *
NORTH_LATITUDE 41 30 0.000 *
SOUTH_LATITUDE 41 26 15.000 *
PRODUCTION_DATE 2001 5 2 *
RASTER_ORDER LEFT_RIGHT/TOP_BOTTOM *
BAND_ORGANIZATION "SINGLE FILE" *
BAND_CONTENT BLACK&WHITE *
BITS_PER_PIXEL 8 *
SAMPLES_AND_LINES 5975 7598 *
HORIZONTAL_DATUM NAD83 *
HORIZONTAL_COORDINATE_SYSTEM UTM *
COORDINATE_ZONE 10 *
HORIZONTAL_UNITS METERS *
HORIZONTAL_RESOLUTION 1.0 *
SECONDARY_HORIZONTAL_DATUM NAD27 *
XY_ORIGIN 436944.549 4594835.705 *
SECONDARY_XY_ORIGIN 437041.333 4594639.456 *
NATION US *
STATE CA *
NW_QUAD_CORNER_XY 437402.701 4594535.705 *
NE_QUAD_CORNER_XY 442619.175 4594492.342 *
SE_QUAD_CORNER_XY 442564.037 4587553.620 *
SW_QUAD_CORNER_XY 437342.550 4587596.971 *
SECONDARY_NW_QUAD_XY 437400.998 4594322.962 *
SECONDARY_NE_QUAD_XY 442617.614 4594279.599 *
SECONDARY_SE_QUAD_XY 442562.478 4587340.980 *
SECONDARY_SW_QUAD_XY 437340.848 4587384.331 *
RMSE_XY 0.65 *
IMAGE_SOURCE "BLACK AND WHITE FILM" *
SOURCE_IMAGE_ID "NAPP 10477 104" *
SOURCE_IMAGE_DATE 1998 8 12 *
SOURCE_IMAGE_ID "NAPP 10477 105" *
SOURCE_IMAGE_DATE 1998 8 12 *
SOURCE_IMAGE_ID "NAPP 10477 103" *
SOURCE_IMAGE_DATE 1998 8 12 *
SOURCE_IMAGE_ID "NAPP 10478 43" *
SOURCE_IMAGE_DATE 1998 8 12 *
SOURCE_IMAGE_ID "NAPP 10478 44" *
SOURCE_IMAGE_DATE 1998 8 12 *
SOURCE_IMAGE_ID "NAPP 10478 45" *
SOURCE_IMAGE_DATE 1998 8 12 *
SOURCE_IMAGE_ID "NAPP 10480 104" *
SOURCE_IMAGE_DATE 1998 8 13 *
SOURCE_IMAGE_ID "NAPP 10480 105" *
SOURCE_IMAGE_DATE 1998 8 13 *
SOURCE_IMAGE_ID "NAPP 10480 106" *
SOURCE_IMAGE_DATE 1998 8 13 *
SOURCE_DEM_DATE 2001 1 1 *
AGENCY "WESTERN MAPPING CENTER (WMC)" *
PRODUCER "USDA FS GEOSPATIAL SERVICE AND TECHNOLOGY CENTER" *
PRODUCTION_SYSTEM "ORBIT OR_RECTIFY V.5.2" *
STANDARD_VERSION 1996 12 *
METADATA_DATE 2001 3 29 *
DATA_FILE_SIZE 45404025 *
BYTE_COUNT 5975 * * * * * * * * * * * * * * * *
END_USGS_HEADER *
