BEGIN_USGS_DOQ_HEADER *
QUADRANGLE_NAME "BOULDER PEAK" *
QUADRANT NE *
WEST_LONGITUDE -123 3 45.000 *
EAST_LONGITUDE -123 0 0.000 *
NORTH_LATITUDE 41 37 30.000 *
SOUTH_LATITUDE 41 33 45.000 *
PRODUCTION_DATE 2001 7 12 *
RASTER_ORDER LEFT_RIGHT/TOP_BOTTOM *
BAND_ORGANIZATION "SINGLE FILE" *
BAND_CONTENT BLACK&WHITE *
BITS_PER_PIXEL 8 *
SAMPLES_AND_LINES 5907 7556 *
HORIZONTAL_DATUM NAD83 *
HORIZONTAL_COORDINATE_SYSTEM UTM *
COORDINATE_ZONE 10 *
HORIZONTAL_UNITS METERS *
HORIZONTAL_RESOLUTION 1.0 *
SECONDARY_HORIZONTAL_DATUM NAD27 *
XY_ORIGIN 494392.648 4608443.655 *
SECONDARY_XY_ORIGIN 494488.400 4608246.618 *
NATION US *
STATE CA *
NW_QUAD_CORNER_XY 494793.620 4608143.655 *
NE_QUAD_CORNER_XY 500000.000 4608141.768 *
SE_QUAD_CORNER_XY 500000.000 4601202.958 *
SW_QUAD_CORNER_XY 494788.595 4601204.843 *
SECONDARY_NW_QUAD_XY 494793.483 4607930.703 *
SECONDARY_NE_QUAD_XY 500000.005 4607928.817 *
SECONDARY_SE_QUAD_XY 500000.005 4600990.108 *
SECONDARY_SW_QUAD_XY 494788.458 4600991.993 *
RMSE_XY 1.00 *
IMAGE_SOURCE "BLACK AND WHITE FILM" *
SOURCE_IMAGE_ID "NAPP 10485 236" *
SOURCE_IMAGE_DATE 1998 8 24 *
SOURCE_IMAGE_ID "NAPP 10485 235" *
SOURCE_IMAGE_DATE 1998 8 24 *
SOURCE_IMAGE_ID "NAPP 10485 237" *
SOURCE_IMAGE_DATE 1998 8 24 *
SOURCE_IMAGE_ID "NAPP 10485 244" *
SOURCE_IMAGE_DATE 1998 8 24 *
SOURCE_IMAGE_ID "NAPP 10485 243" *
SOURCE_IMAGE_DATE 1998 8 24 *
SOURCE_IMAGE_ID "NAPP 10485 242" *
SOURCE_IMAGE_DATE 1998 8 24 *
SOURCE_IMAGE_ID "NAPP 10485 167" *
SOURCE_IMAGE_DATE 1998 8 24 *
SOURCE_IMAGE_ID "NAPP 10485 166" *
SOURCE_IMAGE_DATE 1998 8 24 *
SOURCE_IMAGE_ID "NAPP 10485 165" *
SOURCE_IMAGE_DATE 1998 8 24 *
SOURCE_DEM_DATE 1981 1 1 *
AGENCY "WESTERN MAPPING CENTER (WMC)" *
PRODUCER "USDA FS GEOSPATIAL SERVICE AND TECHNOLOGY CENTER" *
PRODUCTION_SYSTEM "ORBIT OR_RECTIFY V.5.2" *
STANDARD_VERSION 1996 12 *
METADATA_DATE 2001 7 16 *
DATA_FILE_SIZE 44639199 *
BYTE_COUNT 5907 * * * * * * * * * * * * * * *
END_USGS_HEADER *
