BEGIN_USGS_DOQ_HEADER *
QUADRANGLE_NAME "BOULDER PEAK" *
QUADRANT SE *
WEST_LONGITUDE -123 3 45.000 *
EAST_LONGITUDE -123 0 0.000 *
NORTH_LATITUDE 41 33 45.000 *
SOUTH_LATITUDE 41 30 0.000 *
PRODUCTION_DATE 2001 7 12 *
RASTER_ORDER LEFT_RIGHT/TOP_BOTTOM *
BAND_ORGANIZATION "SINGLE FILE" *
BAND_CONTENT BLACK&WHITE *
BITS_PER_PIXEL 8 *
SAMPLES_AND_LINES 5912 7556 *
HORIZONTAL_DATUM NAD83 *
HORIZONTAL_COORDINATE_SYSTEM UTM *
COORDINATE_ZONE 10 *
HORIZONTAL_UNITS METERS *
HORIZONTAL_RESOLUTION 1.0 *
SECONDARY_HORIZONTAL_DATUM NAD27 *
XY_ORIGIN 494387.564 4601504.843 *
SECONDARY_XY_ORIGIN 494483.381 4601307.814 *
NATION US *
STATE CA *
NW_QUAD_CORNER_XY 494788.595 4601204.843 *
NE_QUAD_CORNER_XY 500000.000 4601202.958 *
SE_QUAD_CORNER_XY 500000.000 4594264.222 *
SW_QUAD_CORNER_XY 494783.577 4594266.107 *
SECONDARY_NW_QUAD_XY 494788.458 4600991.993 *
SECONDARY_NE_QUAD_XY 500000.005 4600990.108 *
SECONDARY_SE_QUAD_XY 500000.005 4594051.475 *
SECONDARY_SW_QUAD_XY 494783.440 4594053.360 *
RMSE_XY 1.00 *
IMAGE_SOURCE "BLACK AND WHITE FILM" *
SOURCE_IMAGE_ID "NAPP 10485 234" *
SOURCE_IMAGE_DATE 1998 8 24 *
SOURCE_IMAGE_ID "NAPP 10485 233" *
SOURCE_IMAGE_DATE 1998 8 24 *
SOURCE_IMAGE_ID "NAPP 10485 235" *
SOURCE_IMAGE_DATE 1998 8 24 *
SOURCE_IMAGE_ID "NAPP 10485 246" *
SOURCE_IMAGE_DATE 1998 8 24 *
SOURCE_IMAGE_ID "NAPP 10485 245" *
SOURCE_IMAGE_DATE 1998 8 24 *
SOURCE_IMAGE_ID "NAPP 10485 244" *
SOURCE_IMAGE_DATE 1998 8 24 *
SOURCE_IMAGE_ID "NAPP 10485 169" *
SOURCE_IMAGE_DATE 1998 8 24 *
SOURCE_IMAGE_ID "NAPP 10485 168" *
SOURCE_IMAGE_DATE 1998 8 24 *
SOURCE_IMAGE_ID "NAPP 10485 167" *
SOURCE_IMAGE_DATE 1998 8 24 *
SOURCE_DEM_DATE 1981 1 1 *
AGENCY "WESTERN MAPPING CENTER (WMC)" *
PRODUCER "USDA FS GEOSPATIAL SERVICE AND TECHNOLOGY CENTER" *
PRODUCTION_SYSTEM "ORBIT OR_RECTIFY V.5.2" *
STANDARD_VERSION 1996 12 *
METADATA_DATE 2001 7 16 *
DATA_FILE_SIZE 44676984 *
BYTE_COUNT 5912 * * * * * * * * * * * * * * *
END_USGS_HEADER *
