BEGIN_USGS_DOQ_HEADER *
QUADRANGLE_NAME "BOULDER PEAK" 3.45 or 7.5-min. name*
QUADRANT SW quadrant indicator if cell size = 3.75-minutes*
WEST_LONGITUDE -123 7 30.000 signed deg min sec SDDD MM SS.SSS*
EAST_LONGITUDE -123 3 45.000 signed deg min sec SDDD MM SS.SSS*
NORTH_LATITUDE 41 33 45.000 signed deg min sec SDDD MM SS.SSS*
SOUTH_LATITUDE 41 30 0.000 signed deg min sec SDDD MM SS.SSS*
PRODUCTION_DATE 1996 2 3 yyyy mm dd*
RASTER_ORDER LEFT_RIGHT/TOP_BOTTOM video display order*
BAND_ORGANIZATION "SINGLE FILE" single file or BSQ, or BIL or BIP*
BAND_CONTENT BLACK&WHITE black&white or red green blue*
BITS_PER_PIXEL 8 radiometric resolution*
SAMPLES_AND_LINES 5928 7571 number of columns and rows*
HORIZONTAL_DATUM NAD83 primary horizontal datum*
HORIZONTAL_COORDINATE_SYSTEM UTM *
COORDINATE_ZONE 10 coordinate system zone number*
HORIZONTAL_UNITS METERS coordinate system units*
HORIZONTAL_RESOLUTION 1.00 pixel horiz. ground sample distance*
SECONDARY_HORIZONTAL_DATUM NAD27 secondary horizontal datum*
XY_ORIGIN 489166.500 4601515.500 coord. of upper left pixel pri. datum*
SECONDARY_XY_ORIGIN 489262.475 4601318.557 coord upper left pixel sec datum*
NATION US nation code*
STATE CA state fip code*
NW_QUAD_CORNER_XY 489577.190 4601210.500 XY coords. of pri. NW quad corner*
NE_QUAD_CORNER_XY 494788.595 4601204.843 XY coords. of pri. NE quad corner*
SE_QUAD_CORNER_XY 494783.577 4594266.107 XY coords. of pri. SE quad corner*
SW_QUAD_CORNER_XY 489567.153 4594271.763 XY coords. of pri. SW quad corner*
SECONDARY_NW_QUAD_XY 489576.905 4600997.648 XY coords. - sec. NW quad cor.*
SECONDARY_NE_QUAD_XY 494788.453 4600991.990 XY coords. - sec. NE quad cor.*
SECONDARY_SE_QUAD_XY 494783.435 4594053.357 XY coords. - sec. SE quad cor.*
SECONDARY_SW_QUAD_XY 489566.869 4594059.013 XY coords. - sec. SW quad cor.*
RMSE_XY 3.00 doq horiz. accuracy*
IMAGE_SOURCE "BLACK AND WHITE FILM" b&w, cir, natural color, other*
SOURCE_IMAGE_ID "PAPP 7257 181" source image id*
SOURCE_IMAGE_DATE 1993 8 27 source image date as yyyy mm dd*
IMAGE_SOURCE "BLACK AND WHITE FILM" b&w, cir, natural color, other*
SOURCE_IMAGE_ID "PAPP 7257 080" source image id*
SOURCE_IMAGE_DATE 1993 8 27 source image date as yyyy mm dd*
IMAGE_SOURCE "BLACK AND WHITE FILM" b&w, cir, natural color, other*
SOURCE_IMAGE_ID "PAPP 7257 565" source image id*
SOURCE_IMAGE_DATE 1993 8 27 source image date as yyyy mm dd*
SOURCE_DEM_DATE 1996 2 3 source dem date yyyy mm dd*
AGENCY "WESTERN MAPPING CENTER (WMC)" oversight agency*
PRODUCER "Woolpert Consultants" producer/contractor*
PRODUCTION_SYSTEM "INTERGRAPH ISPM,ISIR" production system*
STANDARD_VERSION 1996 12 version of DOQ standard*
METADATA_DATE 1997 5 26 date created or changed, yyyy mm dd*
DATA_FILE_SIZE 44886816 data set size in bytes*
BYTE_COUNT 5928 header byte count* * * * * * * * * * * * * * * * * * * * * * * * * *
END_USGS_HEADER *
