BEGIN_USGS_DOQ_HEADER *
QUADRANGLE_NAME "UKONOM LAKE" 3.45 or 7.5-min. name*
QUADRANT SW quadrant indicator if cell size = 3.75-minutes*
WEST_LONGITUDE -123 22 30.000 signed deg min sec SDDD MM SS.SSS*
EAST_LONGITUDE -123 18 45.000 signed deg min sec SDDD MM SS.SSS*
NORTH_LATITUDE 41 33 45.000 signed deg min sec SDDD MM SS.SSS*
SOUTH_LATITUDE 41 30 0.000 signed deg min sec SDDD MM SS.SSS*
PRODUCTION_DATE 1996 2 15 yyyy mm dd*
RASTER_ORDER LEFT_RIGHT/TOP_BOTTOM video display order*
BAND_ORGANIZATION "SINGLE FILE" single file or BSQ, or BIL or BIP*
BAND_CONTENT BLACK&WHITE black&white or red green blue*
BITS_PER_PIXEL 8 radiometric resolution*
SAMPLES_AND_LINES 5949 7586 number of columns and rows*
HORIZONTAL_DATUM NAD83 primary horizontal datum*
HORIZONTAL_COORDINATE_SYSTEM UTM *
COORDINATE_ZONE 10 coordinate system zone number*
HORIZONTAL_UNITS METERS coordinate system units*
HORIZONTAL_RESOLUTION 1.00 pixel horiz. ground sample distance*
SECONDARY_HORIZONTAL_DATUM NAD27 secondary horizontal datum*
XY_ORIGIN 468299.500 4601575.500 coord. of upper left pixel pri. datum*
SECONDARY_XY_ORIGIN 468395.950 4601378.979 coord upper left pixel sec datum*
NATION US nation code*
STATE CA state fip code*
NW_QUAD_CORNER_XY 468731.545 4601270.845 XY coords. of pri. NW quad corner*
NE_QUAD_CORNER_XY 473942.961 4601250.101 XY coords. of pri. NE quad corner*
SE_QUAD_CORNER_XY 473917.868 4594311.353 XY coords. of pri. SE quad corner*
SW_QUAD_CORNER_XY 468701.433 4594332.091 XY coords. of pri. SW quad corner*
SECONDARY_NW_QUAD_XY 468730.692 4601057.994 XY coords. - sec. NW quad cor.*
SECONDARY_NE_QUAD_XY 473942.250 4601037.250 XY coords. - sec. NE quad cor.*
SECONDARY_SE_QUAD_XY 473917.158 4594098.604 XY coords. - sec. SE quad cor.*
SECONDARY_SW_QUAD_XY 468700.581 4594119.343 XY coords. - sec. SW quad cor.*
RMSE_XY 0.00 doq horiz. accuracy*
IMAGE_SOURCE "BLACK AND WHITE FILM" b&w, cir, natural color, other*
SOURCE_IMAGE_ID "PAPP 7257 507;205" source image id*
SOURCE_IMAGE_DATE 1993 8 27 source image date as yyyy mm dd*
SOURCE_DEM_DATE 1996 2 15 source dem date yyyy mm dd*
AGENCY "WESTERN MAPPING CENTER (WMC)" oversight agency*
PRODUCER "Woolpert Consultants" producer/contractor*
PRODUCTION_SYSTEM "INTERGRAPH ISPM,ISIR" production system*
STANDARD_VERSION 1996 12 version of DOQ standard*
METADATA_DATE 1997 5 26 date created or changed, yyyy mm dd*
DATA_FILE_SIZE 45135063 data set size in bytes*
BYTE_COUNT 5949 header byte count* * * * * * * * * * * * * * * * * * * * * * * * * * * * * * * *
END_USGS_HEADER *
