BEGIN_USGS_DOQ_HEADER *
QUADRANGLE_NAME "CHIMNEY ROCK" 3.45 or 7.5-min. name*
QUADRANT SE quadrant indicator if cell size = 3.75-minutes*
WEST_LONGITUDE -123 41 15.000 signed deg min sec SDDD MM SS.SSS*
EAST_LONGITUDE -123 37 30.000 signed deg min sec SDDD MM SS.SSS*
NORTH_LATITUDE 41 33 45.000 signed deg min sec SDDD MM SS.SSS*
SOUTH_LATITUDE 41 30 0.000 signed deg min sec SDDD MM SS.SSS*
PRODUCTION_DATE 1996 2 16 yyyy mm dd*
RASTER_ORDER LEFT_RIGHT/TOP_BOTTOM video display order*
BAND_ORGANIZATION "SINGLE FILE" single file or BSQ, or BIL or BIP*
BAND_CONTENT BLACK&WHITE black&white or red green blue*
BITS_PER_PIXEL 8 radiometric resolution*
SAMPLES_AND_LINES 5975 7605 number of columns and rows*
HORIZONTAL_DATUM NAD83 primary horizontal datum*
HORIZONTAL_COORDINATE_SYSTEM UTM *
COORDINATE_ZONE 10 coordinate system zone number*
HORIZONTAL_UNITS METERS coordinate system units*
HORIZONTAL_RESOLUTION 1.00 pixel horiz. ground sample distance*
SECONDARY_HORIZONTAL_DATUM NAD27 secondary horizontal datum*
XY_ORIGIN 442216.500 4601735.500 coord. of upper left pixel pri. datum*
SECONDARY_XY_ORIGIN 442313.202 4601539.296 coord upper left pixel sec datum*
NATION US nation code*
STATE CA state fip code*
NW_QUAD_CORNER_XY 442674.381 4601431.138 XY coords. of pri. NW quad corner*
NE_QUAD_CORNER_XY 447885.827 4601391.536 XY coords. of pri. NE quad corner*
SE_QUAD_CORNER_XY 447835.640 4594452.750 XY coords. of pri. SE quad corner*
SW_QUAD_CORNER_XY 442619.175 4594492.342 XY coords. of pri. SW quad corner*
SECONDARY_NW_QUAD_XY 442672.817 4601218.292 XY coords. - sec. NW quad cor.*
SECONDARY_NE_QUAD_XY 447884.406 4601178.688 XY coords. - sec. NE quad cor.*
SECONDARY_SE_QUAD_XY 447834.220 4594240.005 XY coords. - sec. SE quad cor.*
SECONDARY_SW_QUAD_XY 442617.612 4594279.598 XY coords. - sec. SW quad cor.*
RMSE_XY 2.80 doq horiz. accuracy*
IMAGE_SOURCE "BLACK AND WHITE FILM" b&w, cir, natural color, other*
SOURCE_IMAGE_ID "PAPP 7257 444" source image id*
SOURCE_IMAGE_DATE 1993 8 27 source image date as yyyy mm dd*
IMAGE_SOURCE "BLACK AND WHITE FILM" b&w, cir, natural color, other*
SOURCE_IMAGE_ID "PAPP 7257 545" source image id*
SOURCE_IMAGE_DATE 1993 8 27 source image date as yyyy mm dd*
IMAGE_SOURCE "BLACK AND WHITE FILM" b&w, cir, natural color, other*
SOURCE_IMAGE_ID "PAPP 7257 00" source image id*
SOURCE_IMAGE_DATE 1993 8 27 source image date as yyyy mm dd*
IMAGE_SOURCE "BLACK AND WHITE FILM" b&w, cir, natural color, other*
SOURCE_IMAGE_ID "PAPP 7257 626" source image id*
SOURCE_IMAGE_DATE 1993 8 27 source image date as yyyy mm dd*
SOURCE_DEM_DATE 1996 2 16 source dem date yyyy mm dd*
AGENCY "WESTERN MAPPING CENTER (WMC)" oversight agency*
PRODUCER "Woolpert Consultants" producer/contractor*
PRODUCTION_SYSTEM "INTERGRAPH ISPM,ISIR" production system*
STANDARD_VERSION 1996 12 version of DOQ standard*
METADATA_DATE 1997 5 23 date created or changed, yyyy mm dd*
DATA_FILE_SIZE 45445850 data set size in bytes*
BYTE_COUNT 5975 header byte count* * * * * * * * * * * * * * * * * * * * * * *
END_USGS_HEADER *
