BEGIN_USGS_DOQ_HEADER *
QUADRANGLE_NAME "SUMMIT VALLEY" 3.45 or 7.5-min. name*
QUADRANT NE quadrant indicator if cell size = 3.75-minutes*
WEST_LONGITUDE -123 48 45.000 signed deg min sec SDDD MM SS.SSS*
EAST_LONGITUDE -123 45 0.000 signed deg min sec SDDD MM SS.SSS*
NORTH_LATITUDE 41 37 30.000 signed deg min sec SDDD MM SS.SSS*
SOUTH_LATITUDE 41 33 45.000 signed deg min sec SDDD MM SS.SSS*
PRODUCTION_DATE 1996 2 16 yyyy mm dd*
RASTER_ORDER LEFT_RIGHT/TOP_BOTTOM video display order*
BAND_ORGANIZATION "SINGLE FILE" single file or BSQ, or BIL or BIP*
BAND_CONTENT BLACK&WHITE black&white or red green blue*
BITS_PER_PIXEL 8 radiometric resolution*
SAMPLES_AND_LINES 5980 7613 number of columns and rows*
HORIZONTAL_DATUM NAD83 primary horizontal datum*
HORIZONTAL_COORDINATE_SYSTEM UTM *
COORDINATE_ZONE 10 coordinate system zone number*
HORIZONTAL_UNITS METERS coordinate system units*
HORIZONTAL_RESOLUTION 1.00 pixel horiz. ground sample distance*
SECONDARY_HORIZONTAL_DATUM NAD27 secondary horizontal datum*
XY_ORIGIN 431848.500 4608765.500 coord. of upper left pixel pri. datum*
SECONDARY_XY_ORIGIN 431945.163 4608569.338 coord upper left pixel sec datum*
NATION US nation code*
STATE CA state fip code*
NW_QUAD_CORNER_XY 432316.789 4608460.555 XY coords. of pri. NW quad corner*
NE_QUAD_CORNER_XY 437523.227 4608413.396 XY coords. of pri. NE quad corner*
SE_QUAD_CORNER_XY 437462.926 4601474.513 XY coords. of pri. SE quad corner*
SW_QUAD_CORNER_XY 432251.463 4601521.660 XY coords. of pri. SW quad corner*
SECONDARY_NW_QUAD_XY 432314.940 4608247.609 XY coords. - sec. NW quad cor.*
SECONDARY_NE_QUAD_XY 437521.520 4608200.449 XY coords. - sec. NE quad cor.*
SECONDARY_SE_QUAD_XY 437461.220 4601261.668 XY coords. - sec. SE quad cor.*
SECONDARY_SW_QUAD_XY 432249.615 4601308.816 XY coords. - sec. SW quad cor.*
RMSE_XY 3.80 doq horiz. accuracy*
IMAGE_SOURCE "BLACK AND WHITE FILM" b&w, cir, natural color, other*
SOURCE_IMAGE_ID "NAPP 6250 069" source image id*
SOURCE_IMAGE_DATE 1993 6 24 source image date as yyyy mm dd*
IMAGE_SOURCE "BLACK AND WHITE FILM" b&w, cir, natural color, other*
SOURCE_IMAGE_ID "NAPP 6250 068" source image id*
SOURCE_IMAGE_DATE 1993 6 24 source image date as yyyy mm dd*
IMAGE_SOURCE "BLACK AND WHITE FILM" b&w, cir, natural color, other*
SOURCE_IMAGE_ID "NAPP 6250 070" source image id*
SOURCE_IMAGE_DATE 1993 6 24 source image date as yyyy mm dd*
SOURCE_DEM_DATE 1996 2 16 source dem date yyyy mm dd*
AGENCY "WESTERN MAPPING CENTER (WMC)" oversight agency*
PRODUCER "Woolpert Consultants" producer/contractor*
PRODUCTION_SYSTEM "INTERGRAPH ISPM,ISIR" production system*
STANDARD_VERSION 1996 12 version of DOQ standard*
METADATA_DATE 1997 7 20 date created or changed, yyyy mm dd*
DATA_FILE_SIZE 45531720 data set size in bytes*
BYTE_COUNT 5980 header byte count* * * * * * * * * * * * * * * * * * * * * * * * * *
END_USGS_HEADER *
