BEGIN_USGS_DOQ_HEADER *
QUADRANGLE_NAME "KLAMATH GLEN" *
QUADRANT SE *
WEST_LONGITUDE -123 56 15.000 *
EAST_LONGITUDE -123 52 30.000 *
NORTH_LATITUDE 41 33 45.000 *
SOUTH_LATITUDE 41 30 0.000 *
PRODUCTION_DATE 2001 5 2 *
RASTER_ORDER LEFT_RIGHT/TOP_BOTTOM *
BAND_ORGANIZATION "SINGLE FILE" *
BAND_CONTENT BLACK&WHITE *
BITS_PER_PIXEL 8 *
SAMPLES_AND_LINES 5986 7610 *
HORIZONTAL_DATUM NAD83 *
HORIZONTAL_COORDINATE_SYSTEM UTM *
COORDINATE_ZONE 10 *
HORIZONTAL_UNITS METERS *
HORIZONTAL_RESOLUTION 1.0 *
SECONDARY_HORIZONTAL_DATUM NAD27 *
XY_ORIGIN 421354.368 4601927.271 *
SECONDARY_XY_ORIGIN 421451.041 4601730.921 *
NATION US *
STATE CA *
NW_QUAD_CORNER_XY 421828.505 4601627.271 *
NE_QUAD_CORNER_XY 427039.989 4601572.579 *
SE_QUAD_CORNER_XY 426969.724 4594633.745 *
SW_QUAD_CORNER_XY 421753.220 4594688.422 *
SECONDARY_NW_QUAD_XY 421826.375 4601414.430 *
SECONDARY_NE_QUAD_XY 427038.001 4601359.737 *
SECONDARY_SE_QUAD_XY 426967.737 4594421.005 *
SECONDARY_SW_QUAD_XY 421751.091 4594475.683 *
RMSE_XY 0.65 *
IMAGE_SOURCE "BLACK AND WHITE FILM" *
SOURCE_IMAGE_ID "NAPP 10478 77" *
SOURCE_IMAGE_DATE 1998 8 12 *
SOURCE_IMAGE_ID "NAPP 10478 78" *
SOURCE_IMAGE_DATE 1998 8 12 *
SOURCE_IMAGE_ID "NAPP 10478 76" *
SOURCE_IMAGE_DATE 1998 8 12 *
SOURCE_IMAGE_ID "NAPP 10478 236" *
SOURCE_IMAGE_DATE 1998 8 12 *
SOURCE_IMAGE_ID "NAPP 10478 235" *
SOURCE_IMAGE_DATE 1998 8 12 *
SOURCE_IMAGE_ID "NAPP 10478 234" *
SOURCE_IMAGE_DATE 1998 8 12 *
SOURCE_IMAGE_ID "NAPP 10478 190" *
SOURCE_IMAGE_DATE 1998 8 12 *
SOURCE_IMAGE_ID "NAPP 10477 101" *
SOURCE_IMAGE_DATE 1998 8 12 *
SOURCE_IMAGE_ID "NAPP 10477 100" *
SOURCE_IMAGE_DATE 1998 8 12 *
SOURCE_DEM_DATE 2001 1 1 *
AGENCY "WESTERN MAPPING CENTER (WMC)" *
PRODUCER "USDA FS GEOSPATIAL SERVICE AND TECHNOLOGY CENTER" *
PRODUCTION_SYSTEM "ORBIT OR_RECTIFY V.5.2" *
STANDARD_VERSION 1996 12 *
METADATA_DATE 2001 3 29 *
DATA_FILE_SIZE 45559446 *
BYTE_COUNT 5986 * * * * * * * * * * * * * * * *
END_USGS_HEADER *
