BEGIN_USGS_DOQ_HEADER *
QUADRANGLE_NAME "GRIDER VALLEY" *
QUADRANT NW *
WEST_LONGITUDE -123 15 0.000 *
EAST_LONGITUDE -123 11 15.000 *
NORTH_LATITUDE 41 45 0.000 *
SOUTH_LATITUDE 41 41 15.000 *
PRODUCTION_DATE 2001 7 12 *
RASTER_ORDER LEFT_RIGHT/TOP_BOTTOM *
BAND_ORGANIZATION "SINGLE FILE" *
BAND_CONTENT BLACK&WHITE *
BITS_PER_PIXEL 8 *
SAMPLES_AND_LINES 5913 7568 *
HORIZONTAL_DATUM NAD83 *
HORIZONTAL_COORDINATE_SYSTEM UTM *
COORDINATE_ZONE 10 *
HORIZONTAL_UNITS METERS *
HORIZONTAL_RESOLUTION 1.0 *
SECONDARY_HORIZONTAL_DATUM NAD27 *
XY_ORIGIN 478797.847 4622349.813 *
SECONDARY_XY_ORIGIN 478893.969 4622152.919 *
NATION US *
STATE CA *
NW_QUAD_CORNER_XY 479214.745 4622049.813 *
NE_QUAD_CORNER_XY 484411.061 4622036.602 *
SE_QUAD_CORNER_XY 484395.949 4615097.636 *
SW_QUAD_CORNER_XY 479194.596 4615110.843 *
SECONDARY_NW_QUAD_XY 479214.178 4621836.662 *
SECONDARY_NE_QUAD_XY 484410.639 4621823.450 *
SECONDARY_SE_QUAD_XY 484395.528 4614884.583 *
SECONDARY_SW_QUAD_XY 479194.030 4614897.792 *
RMSE_XY 1.00 *
IMAGE_SOURCE "BLACK AND WHITE FILM" *
SOURCE_IMAGE_ID "NAPP 10486 15" *
SOURCE_IMAGE_DATE 1998 8 24 *
SOURCE_IMAGE_ID "NAPP 10486 16" *
SOURCE_IMAGE_DATE 1998 8 24 *
SOURCE_IMAGE_ID "NAPP 10486 14" *
SOURCE_IMAGE_DATE 1998 8 24 *
SOURCE_IMAGE_ID "NAPP 10479 71" *
SOURCE_IMAGE_DATE 1998 8 13 *
SOURCE_IMAGE_ID "NAPP 10479 72" *
SOURCE_IMAGE_DATE 1998 8 13 *
SOURCE_IMAGE_ID "NAPP 10479 73" *
SOURCE_IMAGE_DATE 1998 8 13 *
SOURCE_IMAGE_ID "NAPP 10486 11" *
SOURCE_IMAGE_DATE 1998 8 24 *
SOURCE_IMAGE_ID "NAPP 10486 12" *
SOURCE_IMAGE_DATE 1998 8 24 *
SOURCE_IMAGE_ID "NAPP 10486 13" *
SOURCE_IMAGE_DATE 1998 8 24 *
SOURCE_DEM_DATE 2000 0 0 *
AGENCY "WESTERN MAPPING CENTER (WMC)" *
PRODUCER "USDA FS GEOSPATIAL SERVICE AND TECHNOLOGY CENTER" *
PRODUCTION_SYSTEM "ORBIT OR_RECTIFY V.5.2" *
STANDARD_VERSION 1996 12 *
METADATA_DATE 2001 7 16 *
DATA_FILE_SIZE 44755497 *
BYTE_COUNT 5913 * * * * * * * * * * * * * * *
END_USGS_HEADER *
