BEGIN_USGS_DOQ_HEADER *
QUADRANGLE_NAME "HUCKLEBERRY MOUNTAIN" *
QUADRANT NE *
WEST_LONGITUDE -123 18 45.000 *
EAST_LONGITUDE -123 15 0.000 *
NORTH_LATITUDE 41 45 0.000 *
SOUTH_LATITUDE 41 41 15.000 *
PRODUCTION_DATE 2001 7 12 *
RASTER_ORDER LEFT_RIGHT/TOP_BOTTOM *
BAND_ORGANIZATION "SINGLE FILE" *
BAND_CONTENT BLACK&WHITE *
BITS_PER_PIXEL 8 *
SAMPLES_AND_LINES 5918 7572 *
HORIZONTAL_DATUM NAD83 *
HORIZONTAL_COORDINATE_SYSTEM UTM *
COORDINATE_ZONE 10 *
HORIZONTAL_UNITS METERS *
HORIZONTAL_RESOLUTION 1.0 *
SECONDARY_HORIZONTAL_DATUM NAD27 *
XY_ORIGIN 473596.316 4622366.798 *
SECONDARY_XY_ORIGIN 473692.449 4622170.044 *
NATION US *
STATE CA *
NW_QUAD_CORNER_XY 474018.425 4622066.798 *
NE_QUAD_CORNER_XY 479214.745 4622049.813 *
SE_QUAD_CORNER_XY 479194.596 4615110.843 *
SW_QUAD_CORNER_XY 473993.239 4615127.824 *
SECONDARY_NW_QUAD_XY 474017.716 4621853.648 *
SECONDARY_NE_QUAD_XY 479214.178 4621836.662 *
SECONDARY_SE_QUAD_XY 479194.030 4614897.792 *
SECONDARY_SW_QUAD_XY 473992.531 4614914.773 *
RMSE_XY 1.00 *
IMAGE_SOURCE "BLACK AND WHITE FILM" *
SOURCE_IMAGE_ID "NAPP 10479 72" *
SOURCE_IMAGE_DATE 1998 8 13 *
SOURCE_IMAGE_ID "NAPP 10479 71" *
SOURCE_IMAGE_DATE 1998 8 13 *
SOURCE_IMAGE_ID "NAPP 10479 73" *
SOURCE_IMAGE_DATE 1998 8 13 *
SOURCE_IMAGE_ID "NAPP 10479 100" *
SOURCE_IMAGE_DATE 1998 8 13 *
SOURCE_IMAGE_ID "NAPP 10479 99" *
SOURCE_IMAGE_DATE 1998 8 13 *
SOURCE_IMAGE_ID "NAPP 10479 98" *
SOURCE_IMAGE_DATE 1998 8 13 *
SOURCE_IMAGE_ID "NAPP 10486 16" *
SOURCE_IMAGE_DATE 1998 8 24 *
SOURCE_IMAGE_ID "NAPP 10486 15" *
SOURCE_IMAGE_DATE 1998 8 24 *
SOURCE_IMAGE_ID "NAPP 10486 14" *
SOURCE_IMAGE_DATE 1998 8 24 *
SOURCE_DEM_DATE 2000 0 0 *
AGENCY "WESTERN MAPPING CENTER (WMC)" *
PRODUCER "USDA FS GEOSPATIAL SERVICE AND TECHNOLOGY CENTER" *
PRODUCTION_SYSTEM "ORBIT OR_RECTIFY V.5.2" *
STANDARD_VERSION 1996 12 *
METADATA_DATE 2001 7 16 *
DATA_FILE_SIZE 44817014 *
BYTE_COUNT 5918 * * * * * * * * * * * * * * *
END_USGS_HEADER *
