BEGIN_USGS_DOQ_HEADER *
QUADRANGLE_NAME "HUCKLEBERRY MOUNTAIN" 3.45 or 7.5-min. name*
QUADRANT NW quadrant indicator if cell size = 3.75-minutes*
WEST_LONGITUDE -123 22 30.000 signed deg min sec SDDD MM SS.SSS*
EAST_LONGITUDE -123 18 45.000 signed deg min sec SDDD MM SS.SSS*
NORTH_LATITUDE 41 45 0.000 signed deg min sec SDDD MM SS.SSS*
SOUTH_LATITUDE 41 41 15.000 signed deg min sec SDDD MM SS.SSS*
PRODUCTION_DATE 1996 2 15 yyyy mm dd*
RASTER_ORDER LEFT_RIGHT/TOP_BOTTOM video display order*
BAND_ORGANIZATION "SINGLE FILE" single file or BSQ, or BIL or BIP*
BAND_CONTENT BLACK&WHITE black&white or red green blue*
BITS_PER_PIXEL 8 radiometric resolution*
SAMPLES_AND_LINES 5933 7587 number of columns and rows*
HORIZONTAL_DATUM NAD83 primary horizontal datum*
HORIZONTAL_COORDINATE_SYSTEM UTM *
COORDINATE_ZONE 10 coordinate system zone number*
HORIZONTAL_UNITS METERS coordinate system units*
HORIZONTAL_RESOLUTION 1.00 pixel horiz. ground sample distance*
SECONDARY_HORIZONTAL_DATUM NAD27 secondary horizontal datum*
XY_ORIGIN 468390.500 4622392.500 coord. of upper left pixel pri. datum*
SECONDARY_XY_ORIGIN 468486.642 4622195.882 coord upper left pixel sec datum*
NATION US nation code*
STATE CA state fip code*
NW_QUAD_CORNER_XY 468822.103 4622087.558 XY coords. of pri. NW quad corner*
NE_QUAD_CORNER_XY 474018.425 4622066.798 XY coords. of pri. NE quad corner*
SE_QUAD_CORNER_XY 473993.239 4615127.824 XY coords. of pri. SE quad corner*
SW_QUAD_CORNER_XY 468791.879 4615148.578 XY coords. of pri. SW quad corner*
SECONDARY_NW_QUAD_XY 468821.248 4621874.404 XY coords. - sec. NW quad cor.*
SECONDARY_NE_QUAD_XY 474017.714 4621853.644 XY coords. - sec. NE quad cor.*
SECONDARY_SE_QUAD_XY 473992.528 4614914.769 XY coords. - sec. SE quad cor.*
SECONDARY_SW_QUAD_XY 468791.026 4614935.524 XY coords. - sec. SW quad cor.*
RMSE_XY 0.00 doq horiz. accuracy*
IMAGE_SOURCE "BLACK AND WHITE FILM" b&w, cir, natural color, other*
SOURCE_IMAGE_ID "PAPP 7257 352;153" source image id*
SOURCE_IMAGE_DATE 1993 8 27 source image date as yyyy mm dd*
SOURCE_DEM_DATE 1996 2 15 source dem date yyyy mm dd*
AGENCY "WESTERN MAPPING CENTER (WMC)" oversight agency*
PRODUCER "Woolpert Consultants" producer/contractor*
PRODUCTION_SYSTEM "INTERGRAPH ISPM,ISIR" production system*
STANDARD_VERSION 1996 12 version of DOQ standard*
METADATA_DATE 1997 5 26 date created or changed, yyyy mm dd*
DATA_FILE_SIZE 45019604 data set size in bytes*
BYTE_COUNT 5933 header byte count* * * * * * * * * * * * * * * * * * * * * * * * * * * * * * * *
END_USGS_HEADER *
