BEGIN_USGS_DOQ_HEADER *
QUADRANGLE_NAME "HUCKLEBERRY MOUNTAIN" *
QUADRANT SW *
WEST_LONGITUDE -123 22 30.000 *
EAST_LONGITUDE -123 18 45.000 *
NORTH_LATITUDE 41 41 15.000 *
SOUTH_LATITUDE 41 37 30.000 *
PRODUCTION_DATE 2001 7 12 *
RASTER_ORDER LEFT_RIGHT/TOP_BOTTOM *
BAND_ORGANIZATION "SINGLE FILE" *
BAND_CONTENT BLACK&WHITE *
BITS_PER_PIXEL 8 *
SAMPLES_AND_LINES 5929 7576 *
HORIZONTAL_DATUM NAD83 *
HORIZONTAL_COORDINATE_SYSTEM UTM *
COORDINATE_ZONE 10 *
HORIZONTAL_UNITS METERS *
HORIZONTAL_RESOLUTION 1.0 *
SECONDARY_HORIZONTAL_DATUM NAD27 *
XY_ORIGIN 468364.492 4615448.578 *
SECONDARY_XY_ORIGIN 468460.738 4615251.993 *
NATION US *
STATE CA *
NW_QUAD_CORNER_XY 468791.879 4615148.578 *
NE_QUAD_CORNER_XY 473993.239 4615127.824 *
SE_QUAD_CORNER_XY 473968.085 4608188.925 *
SW_QUAD_CORNER_XY 468761.693 4608209.674 *
SECONDARY_NW_QUAD_XY 468791.029 4614935.528 *
SECONDARY_NE_QUAD_XY 473992.531 4614914.773 *
SECONDARY_SE_QUAD_XY 473967.377 4607975.975 *
SECONDARY_SW_QUAD_XY 468760.843 4607996.725 *
RMSE_XY 1.00 *
IMAGE_SOURCE "BLACK AND WHITE FILM" *
SOURCE_IMAGE_ID "NAPP 10479 101" *
SOURCE_IMAGE_DATE 1998 8 13 *
SOURCE_IMAGE_ID "NAPP 10479 102" *
SOURCE_IMAGE_DATE 1998 8 13 *
SOURCE_IMAGE_ID "NAPP 10479 100" *
SOURCE_IMAGE_DATE 1998 8 13 *
SOURCE_IMAGE_ID "NAPP 10479 239" *
SOURCE_IMAGE_DATE 1998 8 13 *
SOURCE_IMAGE_ID "NAPP 10479 240" *
SOURCE_IMAGE_DATE 1998 8 13 *
SOURCE_IMAGE_ID "NAPP 10479 241" *
SOURCE_IMAGE_DATE 1998 8 13 *
SOURCE_IMAGE_ID "NAPP 10479 69" *
SOURCE_IMAGE_DATE 1998 8 13 *
SOURCE_IMAGE_ID "NAPP 10479 70" *
SOURCE_IMAGE_DATE 1998 8 13 *
SOURCE_IMAGE_ID "NAPP 10479 71" *
SOURCE_IMAGE_DATE 1998 8 13 *
SOURCE_DEM_DATE 2000 0 0 *
AGENCY "WESTERN MAPPING CENTER (WMC)" *
PRODUCER "USDA FS GEOSPATIAL SERVICE AND TECHNOLOGY CENTER" *
PRODUCTION_SYSTEM "ORBIT OR_RECTIFY V.5.2" *
STANDARD_VERSION 1996 12 *
METADATA_DATE 2001 7 16 *
DATA_FILE_SIZE 44924033 *
BYTE_COUNT 5929 * * * * * * * * * * * * * * * *
END_USGS_HEADER *
