BEGIN_USGS_DOQ_HEADER *
QUADRANGLE_NAME "CLEAR CREEK" *
QUADRANT NE *
WEST_LONGITUDE -123 26 15.000 *
EAST_LONGITUDE -123 22 30.000 *
NORTH_LATITUDE 41 45 0.000 *
SOUTH_LATITUDE 41 41 15.000 *
PRODUCTION_DATE 2001 7 12 *
RASTER_ORDER LEFT_RIGHT/TOP_BOTTOM *
BAND_ORGANIZATION "SINGLE FILE" *
BAND_CONTENT BLACK&WHITE *
BITS_PER_PIXEL 8 *
SAMPLES_AND_LINES 5929 7580 *
HORIZONTAL_DATUM NAD83 *
HORIZONTAL_COORDINATE_SYSTEM UTM *
COORDINATE_ZONE 10 *
HORIZONTAL_UNITS METERS *
HORIZONTAL_RESOLUTION 1.0 *
SECONDARY_HORIZONTAL_DATUM NAD27 *
XY_ORIGIN 463193.240 4622412.092 *
SECONDARY_XY_ORIGIN 463289.397 4622215.618 *
NATION US *
STATE CA *
NW_QUAD_CORNER_XY 463625.776 4622112.092 *
NE_QUAD_CORNER_XY 468822.103 4622087.558 *
SE_QUAD_CORNER_XY 468791.879 4615148.578 *
SW_QUAD_CORNER_XY 463590.515 4615173.106 *
SECONDARY_NW_QUAD_XY 463624.782 4621898.943 *
SECONDARY_NE_QUAD_XY 468821.251 4621874.408 *
SECONDARY_SE_QUAD_XY 468791.029 4614935.528 *
SECONDARY_SW_QUAD_XY 463589.522 4614960.057 *
RMSE_XY 1.00 *
IMAGE_SOURCE "BLACK AND WHITE FILM" *
SOURCE_IMAGE_ID "NAPP 10479 242" *
SOURCE_IMAGE_DATE 1998 8 13 *
SOURCE_IMAGE_ID "NAPP 10479 241" *
SOURCE_IMAGE_DATE 1998 8 13 *
SOURCE_IMAGE_ID "NAPP 10479 243" *
SOURCE_IMAGE_DATE 1998 8 13 *
SOURCE_IMAGE_ID "NAPP 10480 205" *
SOURCE_IMAGE_DATE 1998 8 13 *
SOURCE_IMAGE_ID "NAPP 10480 204" *
SOURCE_IMAGE_DATE 1998 8 13 *
SOURCE_IMAGE_ID "NAPP 10480 203" *
SOURCE_IMAGE_DATE 1998 8 13 *
SOURCE_IMAGE_ID "NAPP 10479 100" *
SOURCE_IMAGE_DATE 1998 8 13 *
SOURCE_IMAGE_ID "NAPP 10479 99" *
SOURCE_IMAGE_DATE 1998 8 13 *
SOURCE_IMAGE_ID "NAPP 10479 98" *
SOURCE_IMAGE_DATE 1998 8 13 *
SOURCE_DEM_DATE 2000 0 0 *
AGENCY "WESTERN MAPPING CENTER (WMC)" *
PRODUCER "USDA FS GEOSPATIAL SERVICE AND TECHNOLOGY CENTER" *
PRODUCTION_SYSTEM "ORBIT OR_RECTIFY V.5.2" *
STANDARD_VERSION 1996 12 *
METADATA_DATE 2001 7 16 *
DATA_FILE_SIZE 44947749 *
BYTE_COUNT 5929 * * * * * * * * * * * * * * * *
END_USGS_HEADER *
