BEGIN_USGS_DOQ_HEADER *
QUADRANGLE_NAME "BEAR PEAK" 3.45 or 7.5-min. name*
QUADRANT NE quadrant indicator if cell size = 3.75-minutes*
WEST_LONGITUDE -123 33 45.000 signed deg min sec SDDD MM SS.SSS*
EAST_LONGITUDE -123 30 0.000 signed deg min sec SDDD MM SS.SSS*
NORTH_LATITUDE 41 45 0.000 signed deg min sec SDDD MM SS.SSS*
SOUTH_LATITUDE 41 41 15.000 signed deg min sec SDDD MM SS.SSS*
PRODUCTION_DATE 1996 2 16 yyyy mm dd*
RASTER_ORDER LEFT_RIGHT/TOP_BOTTOM video display order*
BAND_ORGANIZATION "SINGLE FILE" single file or BSQ, or BIL or BIP*
BAND_CONTENT BLACK&WHITE black&white or red green blue*
BITS_PER_PIXEL 8 radiometric resolution*
SAMPLES_AND_LINES 5949 7597 number of columns and rows*
HORIZONTAL_DATUM NAD83 primary horizontal datum*
HORIZONTAL_COORDINATE_SYSTEM UTM *
COORDINATE_ZONE 10 coordinate system zone number*
HORIZONTAL_UNITS METERS coordinate system units*
HORIZONTAL_RESOLUTION 1.00 pixel horiz. ground sample distance*
SECONDARY_HORIZONTAL_DATUM NAD27 secondary horizontal datum*
XY_ORIGIN 452785.500 4622476.500 coord. of upper left pixel pri. datum*
SECONDARY_XY_ORIGIN 452881.776 4622280.251 coord upper left pixel sec datum*
NATION US nation code*
STATE CA state fip code*
NW_QUAD_CORNER_XY 453233.106 4622172.484 XY coords. of pri. NW quad corner*
NE_QUAD_CORNER_XY 458429.444 4622140.401 XY coords. of pri. NE quad corner*
SE_QUAD_CORNER_XY 458389.145 4615201.407 XY coords. of pri. SE quad corner*
SW_QUAD_CORNER_XY 453187.770 4615233.483 XY coords. of pri. SW quad corner*
SECONDARY_NW_QUAD_XY 453231.824 4621959.333 XY coords. - sec. NW quad cor.*
SECONDARY_NE_QUAD_XY 458428.305 4621927.248 XY coords. - sec. NE quad cor.*
SECONDARY_SE_QUAD_XY 458388.007 4614988.355 XY coords. - sec. SE quad cor.*
SECONDARY_SW_QUAD_XY 453186.489 4615020.432 XY coords. - sec. SW quad cor.*
RMSE_XY 4.70 doq horiz. accuracy*
IMAGE_SOURCE "BLACK AND WHITE FILM" b&w, cir, natural color, other*
SOURCE_IMAGE_ID "PAPP 7257 373" source image id*
SOURCE_IMAGE_DATE 1993 8 27 source image date as yyyy mm dd*
IMAGE_SOURCE "BLACK AND WHITE FILM" b&w, cir, natural color, other*
SOURCE_IMAGE_ID "PAPP 7257 272" source image id*
SOURCE_IMAGE_DATE 1993 8 27 source image date as yyyy mm dd*
IMAGE_SOURCE "BLACK AND WHITE FILM" b&w, cir, natural color, other*
SOURCE_IMAGE_ID "PAPP 7257 474" source image id*
SOURCE_IMAGE_DATE 1993 8 27 source image date as yyyy mm dd*
SOURCE_DEM_DATE 1996 2 16 source dem date yyyy mm dd*
AGENCY "WESTERN MAPPING CENTER (WMC)" oversight agency*
PRODUCER "Woolpert Consultants" producer/contractor*
PRODUCTION_SYSTEM "INTERGRAPH ISPM,ISIR" production system*
STANDARD_VERSION 1996 12 version of DOQ standard*
METADATA_DATE 1997 5 23 date created or changed, yyyy mm dd*
DATA_FILE_SIZE 45200502 data set size in bytes*
BYTE_COUNT 5949 header byte count* * * * * * * * * * * * * * * * * * * * * * * * * *
END_USGS_HEADER *
