BEGIN_USGS_DOQ_HEADER *
QUADRANGLE_NAME "PRESCOTT MOUNTAIN" 3.45 or 7.5-min. name*
QUADRANT NW quadrant indicator if cell size = 3.75-minutes*
WEST_LONGITUDE -123 45 0.000 signed deg min sec SDDD MM SS.SSS*
EAST_LONGITUDE -123 41 15.000 signed deg min sec SDDD MM SS.SSS*
NORTH_LATITUDE 41 45 0.000 signed deg min sec SDDD MM SS.SSS*
SOUTH_LATITUDE 41 41 15.000 signed deg min sec SDDD MM SS.SSS*
PRODUCTION_DATE 1996 2 16 yyyy mm dd*
RASTER_ORDER LEFT_RIGHT/TOP_BOTTOM video display order*
BAND_ORGANIZATION "SINGLE FILE" single file or BSQ, or BIL or BIP*
BAND_CONTENT BLACK&WHITE black&white or red green blue*
BITS_PER_PIXEL 8 radiometric resolution*
SAMPLES_AND_LINES 5965 7609 number of columns and rows*
HORIZONTAL_DATUM NAD83 primary horizontal datum*
HORIZONTAL_COORDINATE_SYSTEM UTM *
COORDINATE_ZONE 10 coordinate system zone number*
HORIZONTAL_UNITS METERS coordinate system units*
HORIZONTAL_RESOLUTION 1.00 pixel horiz. ground sample distance*
SECONDARY_HORIZONTAL_DATUM NAD27 secondary horizontal datum*
XY_ORIGIN 437180.500 4622595.500 coord. of upper left pixel pri. datum*
SECONDARY_XY_ORIGIN 437277.080 4622399.518 coord upper left pixel sec datum*
NATION US nation code*
STATE CA state fip code*
NW_QUAD_CORNER_XY 437644.051 4622291.385 XY coords. of pri. NW quad corner*
NE_QUAD_CORNER_XY 442840.410 4622247.976 XY coords. of pri. NE quad corner*
SE_QUAD_CORNER_XY 442784.999 4615308.956 XY coords. of pri. SE quad corner*
SW_QUAD_CORNER_XY 437583.602 4615352.353 XY coords. of pri. SW quad corner*
SECONDARY_NW_QUAD_XY 437642.343 4622078.237 XY coords. - sec. NW quad cor.*
SECONDARY_NE_QUAD_XY 442838.844 4622034.827 XY coords. - sec. NE quad cor.*
SECONDARY_SE_QUAD_XY 442783.434 4615095.906 XY coords. - sec. SE quad cor.*
SECONDARY_SW_QUAD_XY 437581.894 4615139.305 XY coords. - sec. SW quad cor.*
RMSE_XY 3.20 doq horiz. accuracy*
IMAGE_SOURCE "BLACK AND WHITE FILM" b&w, cir, natural color, other*
SOURCE_IMAGE_ID "PAPP 7257 535" source image id*
SOURCE_IMAGE_DATE 1993 8 27 source image date as yyyy mm dd*
IMAGE_SOURCE "BLACK AND WHITE FILM" b&w, cir, natural color, other*
SOURCE_IMAGE_ID "PAPP 7257 636" source image id*
SOURCE_IMAGE_DATE 1993 8 27 source image date as yyyy mm dd*
SOURCE_DEM_DATE 1996 2 16 source dem date yyyy mm dd*
AGENCY "WESTERN MAPPING CENTER (WMC)" oversight agency*
PRODUCER "Woolpert Consultants" producer/contractor*
PRODUCTION_SYSTEM "INTERGRAPH ISPM,ISIR" production system*
STANDARD_VERSION 1996 12 version of DOQ standard*
METADATA_DATE 1997 5 23 date created or changed, yyyy mm dd*
DATA_FILE_SIZE 45393650 data set size in bytes*
BYTE_COUNT 5965 header byte count* * * * * * * * * * * * * * * * * * * * * * * * * * * * *
END_USGS_HEADER *
