BEGIN_USGS_DOQ_HEADER *
QUADRANGLE_NAME "PRESCOTT MOUNTAIN" *
QUADRANT SE *
WEST_LONGITUDE -123 41 15.000 *
EAST_LONGITUDE -123 37 30.000 *
NORTH_LATITUDE 41 41 15.000 *
SOUTH_LATITUDE 41 37 30.000 *
PRODUCTION_DATE 2001 5 2 *
RASTER_ORDER LEFT_RIGHT/TOP_BOTTOM *
BAND_ORGANIZATION "SINGLE FILE" *
BAND_CONTENT BLACK&WHITE *
BITS_PER_PIXEL 8 *
SAMPLES_AND_LINES 5955 7595 *
HORIZONTAL_DATUM NAD83 *
HORIZONTAL_COORDINATE_SYSTEM UTM *
COORDINATE_ZONE 10 *
HORIZONTAL_UNITS METERS *
HORIZONTAL_RESOLUTION 1.0 *
SECONDARY_HORIZONTAL_DATUM NAD27 *
XY_ORIGIN 442331.963 4615608.456 *
SECONDARY_XY_ORIGIN 442428.523 4615412.348 *
NATION US *
STATE CA *
NW_QUAD_CORNER_XY 442784.999 4615308.956 *
NE_QUAD_CORNER_XY 447986.388 4615269.332 *
SE_QUAD_CORNER_XY 447936.076 4608330.397 *
SW_QUAD_CORNER_XY 442729.656 4608370.010 *
SECONDARY_NW_QUAD_XY 442783.437 4615095.909 *
SECONDARY_NE_QUAD_XY 447984.969 4615056.285 *
SECONDARY_SE_QUAD_XY 447934.658 4608117.449 *
SECONDARY_SW_QUAD_XY 442728.095 4608157.063 *
RMSE_XY 0.65 *
IMAGE_SOURCE "BLACK AND WHITE FILM" *
SOURCE_IMAGE_ID "NAPP 10480 111" *
SOURCE_IMAGE_DATE 1998 8 13 *
SOURCE_IMAGE_ID "NAPP 10480 110" *
SOURCE_IMAGE_DATE 1998 8 13 *
SOURCE_IMAGE_ID "NAPP 10480 112" *
SOURCE_IMAGE_DATE 1998 8 13 *
SOURCE_IMAGE_ID "NAPP 10480 143" *
SOURCE_IMAGE_DATE 1998 8 13 *
SOURCE_IMAGE_ID "NAPP 10480 142" *
SOURCE_IMAGE_DATE 1998 8 13 *
SOURCE_IMAGE_ID "NAPP 10480 141" *
SOURCE_IMAGE_DATE 1998 8 13 *
SOURCE_DEM_DATE 2001 1 1 *
AGENCY "WESTERN MAPPING CENTER (WMC)" *
PRODUCER "USDA FS GEOSPATIAL SERVICE AND TECHNOLOGY CENTER" *
PRODUCTION_SYSTEM "ORBIT OR_RECTIFY V.5.2" *
STANDARD_VERSION 1996 12 *
METADATA_DATE 2001 3 29 *
DATA_FILE_SIZE 45234180 *
BYTE_COUNT 5955 * * * * * * * * * * * * * * * * * * * * * *
END_USGS_HEADER *
