BEGIN_USGS_DOQ_HEADER *
QUADRANGLE_NAME "PRESTON PEAK" *
QUADRANT SW *
WEST_LONGITUDE -123 37 30.000 *
EAST_LONGITUDE -123 33 45.000 *
NORTH_LATITUDE 41 48 45.000 *
SOUTH_LATITUDE 41 45 0.000 *
PRODUCTION_DATE 2001 7 16 *
RASTER_ORDER LEFT_RIGHT/TOP_BOTTOM *
BAND_ORGANIZATION "SINGLE FILE" *
BAND_CONTENT BLACK&WHITE *
BITS_PER_PIXEL 8 *
SAMPLES_AND_LINES 5940 7592 *
HORIZONTAL_DATUM NAD83 *
HORIZONTAL_COORDINATE_SYSTEM UTM *
COORDINATE_ZONE 10 *
HORIZONTAL_UNITS METERS *
HORIZONTAL_RESOLUTION 1.0 *
SECONDARY_HORIZONTAL_DATUM NAD27 *
XY_ORIGIN 447638.963 4629447.428 *
SECONDARY_XY_ORIGIN 447735.305 4629251.271 *
NATION US *
STATE CA *
NW_QUAD_CORNER_XY 448087.198 4629147.428 *
NE_QUAD_CORNER_XY 453278.498 4629111.561 *
SE_QUAD_CORNER_XY 453233.106 4622172.484 *
SW_QUAD_CORNER_XY 448036.762 4622208.343 *
SECONDARY_NW_QUAD_XY 448085.777 4628934.182 *
SECONDARY_NE_QUAD_XY 453277.220 4628898.313 *
SECONDARY_SE_QUAD_XY 453231.829 4621959.336 *
SECONDARY_SW_QUAD_XY 448035.342 4621995.195 *
RMSE_XY 1.52 *
IMAGE_SOURCE "BLACK AND WHITE FILM" *
SOURCE_IMAGE_ID "NAPP 10487 195" *
SOURCE_IMAGE_DATE 1998 8 27 *
SOURCE_IMAGE_ID "NAPP 10487 196" *
SOURCE_IMAGE_DATE 1998 8 27 *
SOURCE_IMAGE_ID "NAPP 10487 194" *
SOURCE_IMAGE_DATE 1998 8 27 *
SOURCE_IMAGE_ID "NAPP 10480 13" *
SOURCE_IMAGE_DATE 1998 8 13 *
SOURCE_IMAGE_ID "NAPP 10480 12" *
SOURCE_IMAGE_DATE 1998 8 13 *
SOURCE_IMAGE_ID "NAPP 10480 11" *
SOURCE_IMAGE_DATE 1998 8 13 *
SOURCE_DEM_DATE 1982 1 1 *
AGENCY "WESTERN MAPPING CENTER (WMC)" *
PRODUCER "USDA FS GEOSPATIAL SERVICE AND TECHNOLOGY CENTER" *
PRODUCTION_SYSTEM "ORBIT OR_RECTIFY V.5.2" *
STANDARD_VERSION 1996 12 *
METADATA_DATE 2001 7 17 *
DATA_FILE_SIZE 45102420 *
BYTE_COUNT 5940 * * * * * * * * * * * * * * * * * * * * * *
END_USGS_HEADER *
