BEGIN_USGS_DOQ_HEADER *
QUADRANGLE_NAME "DEVILS PUNCHBOWL" *
QUADRANT SE *
WEST_LONGITUDE -123 41 15.000 *
EAST_LONGITUDE -123 37 30.000 *
NORTH_LATITUDE 41 48 45.000 *
SOUTH_LATITUDE 41 45 0.000 *
PRODUCTION_DATE 2001 5 2 *
RASTER_ORDER LEFT_RIGHT/TOP_BOTTOM *
BAND_ORGANIZATION "SINGLE FILE" *
BAND_CONTENT BLACK&WHITE *
BITS_PER_PIXEL 8 *
SAMPLES_AND_LINES 5945 7596 *
HORIZONTAL_DATUM NAD83 *
HORIZONTAL_COORDINATE_SYSTEM UTM *
COORDINATE_ZONE 10 *
HORIZONTAL_UNITS METERS *
HORIZONTAL_RESOLUTION 1.0 *
SECONDARY_HORIZONTAL_DATUM NAD27 *
XY_ORIGIN 442442.865 4629487.071 *
SECONDARY_XY_ORIGIN 442539.301 4629291.000 *
NATION US *
STATE CA *
NW_QUAD_CORNER_XY 442895.890 4629187.071 *
NE_QUAD_CORNER_XY 448087.198 4629147.428 *
SE_QUAD_CORNER_XY 448036.762 4622208.343 *
SW_QUAD_CORNER_XY 442840.410 4622247.976 *
SECONDARY_NW_QUAD_XY 442894.328 4628973.826 *
SECONDARY_NE_QUAD_XY 448085.777 4628934.182 *
SECONDARY_SE_QUAD_XY 448035.342 4621995.195 *
SECONDARY_SW_QUAD_XY 442838.849 4622034.830 *
RMSE_XY 0.65 *
IMAGE_SOURCE "BLACK AND WHITE FILM" *
SOURCE_IMAGE_ID "NAPP 10480 115" *
SOURCE_IMAGE_DATE 1998 8 13 *
SOURCE_IMAGE_ID "NAPP 10480 114" *
SOURCE_IMAGE_DATE 1998 8 13 *
SOURCE_IMAGE_ID "NAPP 10480 116" *
SOURCE_IMAGE_DATE 1998 8 13 *
SOURCE_IMAGE_ID "NAPP 10480 139" *
SOURCE_IMAGE_DATE 1998 8 13 *
SOURCE_IMAGE_ID "NAPP 10480 138" *
SOURCE_IMAGE_DATE 1998 8 13 *
SOURCE_IMAGE_ID "NAPP 10480 137" *
SOURCE_IMAGE_DATE 1998 8 13 *
SOURCE_DEM_DATE 1981 1 1 *
AGENCY "WESTERN MAPPING CENTER (WMC)" *
PRODUCER "USDA FS GEOSPATIAL SERVICE AND TECHNOLOGY CENTER" *
PRODUCTION_SYSTEM "ORBIT OR_RECTIFY V.5.2" *
STANDARD_VERSION 1996 12 *
METADATA_DATE 2001 3 29 *
DATA_FILE_SIZE 45164165 *
BYTE_COUNT 5945 * * * * * * * * * * * * * * * * * * * * * *
END_USGS_HEADER *
