BEGIN_USGS_DOQ_HEADER *
QUADRANGLE_NAME "HURDYGURDY BUTTE" *
QUADRANT NE *
WEST_LONGITUDE -123 48 45.000 *
EAST_LONGITUDE -123 45 0.000 *
NORTH_LATITUDE 41 52 30.000 *
SOUTH_LATITUDE 41 48 45.000 *
PRODUCTION_DATE 2001 5 2 *
RASTER_ORDER LEFT_RIGHT/TOP_BOTTOM *
BAND_ORGANIZATION "SINGLE FILE" *
BAND_CONTENT BLACK&WHITE *
BITS_PER_PIXEL 8 *
SAMPLES_AND_LINES 5950 7604 *
HORIZONTAL_DATUM NAD83 *
HORIZONTAL_COORDINATE_SYSTEM UTM *
COORDINATE_ZONE 10 *
HORIZONTAL_UNITS METERS *
HORIZONTAL_RESOLUTION 1.0 *
SECONDARY_HORIZONTAL_DATUM NAD27 *
XY_ORIGIN 432114.887 4636516.878 *
SECONDARY_XY_ORIGIN 432211.347 4636320.837 *
NATION US *
STATE CA *
NW_QUAD_CORNER_XY 432578.902 4636216.878 *
NE_QUAD_CORNER_XY 437765.174 4636169.671 *
SE_QUAD_CORNER_XY 437704.576 4629230.491 *
SW_QUAD_CORNER_XY 432513.252 4629277.686 *
SECONDARY_NW_QUAD_XY 432577.051 4636003.535 *
SECONDARY_NE_QUAD_XY 437763.466 4635956.326 *
SECONDARY_SE_QUAD_XY 437702.868 4629017.244 *
SECONDARY_SW_QUAD_XY 432511.403 4629064.441 *
RMSE_XY 0.65 *
IMAGE_SOURCE "BLACK AND WHITE FILM" *
SOURCE_IMAGE_ID "NAPP 10478 56" *
SOURCE_IMAGE_DATE 1998 8 12 *
SOURCE_IMAGE_ID "NAPP 10478 55" *
SOURCE_IMAGE_DATE 1998 8 12 *
SOURCE_IMAGE_ID "NAPP 10478 57" *
SOURCE_IMAGE_DATE 1998 8 12 *
SOURCE_IMAGE_ID "NAPP 10477 92" *
SOURCE_IMAGE_DATE 1998 8 12 *
SOURCE_IMAGE_ID "NAPP 10477 91" *
SOURCE_IMAGE_DATE 1998 8 12 *
SOURCE_IMAGE_ID "NAPP 10477 90" *
SOURCE_IMAGE_DATE 1998 8 12 *
SOURCE_IMAGE_ID "NAPP 10480 137" *
SOURCE_IMAGE_DATE 1998 8 13 *
SOURCE_IMAGE_ID "NAPP 10480 136" *
SOURCE_IMAGE_DATE 1998 8 13 *
SOURCE_IMAGE_ID "NAPP 10480 135" *
SOURCE_IMAGE_DATE 1998 8 13 *
SOURCE_DEM_DATE 2001 1 1 *
AGENCY "WESTERN MAPPING CENTER (WMC)" *
PRODUCER "USDA FS GEOSPATIAL SERVICE AND TECHNOLOGY CENTER" *
PRODUCTION_SYSTEM "ORBIT OR_RECTIFY V.5.2" *
STANDARD_VERSION 1996 12 *
METADATA_DATE 2001 3 29 *
DATA_FILE_SIZE 45249750 *
BYTE_COUNT 5950 * * * * * * * * * * * * * * * *
END_USGS_HEADER *
