BEGIN_USGS_DOQ_HEADER *
QUADRANGLE_NAME "GASQUET" 3.45 or 7.5-min. name*
QUADRANT NE quadrant indicator if cell size = 3.75-minutes*
WEST_LONGITUDE -123 56 15.000 signed deg min sec SDDD MM SS.SSS*
EAST_LONGITUDE -123 52 30.000 signed deg min sec SDDD MM SS.SSS*
NORTH_LATITUDE 41 52 30.000 signed deg min sec SDDD MM SS.SSS*
SOUTH_LATITUDE 41 48 45.000 signed deg min sec SDDD MM SS.SSS*
PRODUCTION_DATE 1996 2 17 yyyy mm dd*
RASTER_ORDER LEFT_RIGHT/TOP_BOTTOM video display order*
BAND_ORGANIZATION "SINGLE FILE" single file or BSQ, or BIL or BIP*
BAND_CONTENT BLACK&WHITE black&white or red green blue*
BITS_PER_PIXEL 8 radiometric resolution*
SAMPLES_AND_LINES 5971 7622 number of columns and rows*
HORIZONTAL_DATUM NAD83 primary horizontal datum*
HORIZONTAL_COORDINATE_SYSTEM UTM *
COORDINATE_ZONE 10 coordinate system zone number*
HORIZONTAL_UNITS METERS coordinate system units*
HORIZONTAL_RESOLUTION 1.00 pixel horiz. ground sample distance*
SECONDARY_HORIZONTAL_DATUM NAD27 secondary horizontal datum*
XY_ORIGIN 421727.500 4636627.500 coord. of upper left pixel pri. datum*
SECONDARY_XY_ORIGIN 421823.957 4636431.392 coord upper left pixel sec datum*
NATION US nation code*
STATE CA state fip code*
NW_QUAD_CORNER_XY 422206.329 4636322.624 XY coords. of pri. NW quad corner*
NE_QUAD_CORNER_XY 427392.620 4636267.862 XY coords. of pri. NE quad corner*
SE_QUAD_CORNER_XY 427321.920 4629328.658 XY coords. of pri. SE quad corner*
SW_QUAD_CORNER_XY 422130.578 4629383.406 XY coords. of pri. SW quad corner*
SECONDARY_NW_QUAD_XY 422204.192 4636109.282 XY coords. - sec. NW quad cor.*
SECONDARY_NE_QUAD_XY 427390.625 4636054.519 XY coords. - sec. NE quad cor.*
SECONDARY_SE_QUAD_XY 427319.926 4629115.413 XY coords. - sec. SE quad cor.*
SECONDARY_SW_QUAD_XY 422128.441 4629170.163 XY coords. - sec. SW quad cor.*
RMSE_XY 6.00 doq horiz. accuracy*
IMAGE_SOURCE "BLACK AND WHITE FILM" b&w, cir, natural color, other*
SOURCE_IMAGE_ID "NAPP 6247 035" source image id*
SOURCE_IMAGE_DATE 1993 6 12 source image date as yyyy mm dd*
SOURCE_DEM_DATE 1996 2 17 source dem date yyyy mm dd*
AGENCY "WESTERN MAPPING CENTER (WMC)" oversight agency*
PRODUCER "Woolpert Consultants" producer/contractor*
PRODUCTION_SYSTEM "INTERGRAPH ISPM,ISIR" production system*
STANDARD_VERSION 1996 12 version of DOQ standard*
METADATA_DATE 1997 7 20 date created or changed, yyyy mm dd*
DATA_FILE_SIZE 45516933 data set size in bytes*
BYTE_COUNT 5971 header byte count* * * * * * * * * * * * * * * * * * * * * * * * * * * * * * * *
END_USGS_HEADER *
