BEGIN_USGS_DOQ_HEADER *
QUADRANGLE_NAME "KANGAROO MOUNTAIN" *
QUADRANT NE *
WEST_LONGITUDE -123 11 15.000 *
EAST_LONGITUDE -123 7 30.000 *
NORTH_LATITUDE 42 0 0.000 *
SOUTH_LATITUDE 41 56 15.000 *
PRODUCTION_DATE 2001 7 16 *
RASTER_ORDER LEFT_RIGHT/TOP_BOTTOM *
BAND_ORGANIZATION "SINGLE FILE" *
BAND_CONTENT BLACK&WHITE *
BITS_PER_PIXEL 8 *
SAMPLES_AND_LINES 5888 7565 *
HORIZONTAL_DATUM NAD83 *
HORIZONTAL_COORDINATE_SYSTEM UTM *
COORDINATE_ZONE 10 *
HORIZONTAL_UNITS METERS *
HORIZONTAL_RESOLUTION 1.0 *
SECONDARY_HORIZONTAL_DATUM NAD27 *
XY_ORIGIN 484060.242 4650093.226 *
SECONDARY_XY_ORIGIN 484156.049 4649896.526 *
NATION US *
STATE CA *
NW_QUAD_CORNER_XY 484471.693 4649793.226 *
NE_QUAD_CORNER_XY 489647.796 4649783.781 *
SE_QUAD_CORNER_XY 489637.673 4642844.514 *
SW_QUAD_CORNER_XY 484456.507 4642853.957 *
SECONDARY_NW_QUAD_XY 484471.269 4649579.682 *
SECONDARY_NE_QUAD_XY 489647.515 4649570.237 *
SECONDARY_SE_QUAD_XY 489637.392 4642631.066 *
SECONDARY_SW_QUAD_XY 484456.084 4642640.509 *
RMSE_XY 1.52 *
IMAGE_SOURCE "BLACK AND WHITE FILM" *
SOURCE_IMAGE_ID "NAPP 10480 170" *
SOURCE_IMAGE_DATE 1998 8 13 *
SOURCE_IMAGE_ID "NAPP 10480 171" *
SOURCE_IMAGE_DATE 1998 8 13 *
SOURCE_IMAGE_ID "NAPP 10480 169" *
SOURCE_IMAGE_DATE 1998 8 13 *
SOURCE_IMAGE_ID "NAPP 10480 184" *
SOURCE_IMAGE_DATE 1998 8 13 *
SOURCE_IMAGE_ID "NAPP 10480 185" *
SOURCE_IMAGE_DATE 1998 8 13 *
SOURCE_IMAGE_ID "NAPP 10480 186" *
SOURCE_IMAGE_DATE 1998 8 13 *
SOURCE_IMAGE_ID "NAPP 10480 158" *
SOURCE_IMAGE_DATE 1998 8 13 *
SOURCE_IMAGE_ID "NAPP 10480 159" *
SOURCE_IMAGE_DATE 1998 8 13 *
SOURCE_IMAGE_ID "NAPP 10480 160" *
SOURCE_IMAGE_DATE 1998 8 13 *
SOURCE_DEM_DATE 1999 0 0 *
AGENCY "WESTERN MAPPING CENTER (WMC)" *
PRODUCER "USDA FS GEOSPATIAL SERVICE AND TECHNOLOGY CENTER" *
PRODUCTION_SYSTEM "ORBIT OR_RECTIFY V.5.2" *
STANDARD_VERSION 1996 12 *
METADATA_DATE 2001 7 17 *
DATA_FILE_SIZE 44548608 *
BYTE_COUNT 5888 * * * * * * * * * * * * * * *
END_USGS_HEADER *
