BEGIN_USGS_DOQ_HEADER *
QUADRANGLE_NAME "FIGUREHEAD MOUNTAIN" *
QUADRANT SW *
WEST_LONGITUDE -123 22 30.000 *
EAST_LONGITUDE -123 18 45.000 *
NORTH_LATITUDE 41 56 15.000 *
SOUTH_LATITUDE 41 52 30.000 *
PRODUCTION_DATE 2001 7 16 *
RASTER_ORDER LEFT_RIGHT/TOP_BOTTOM *
BAND_ORGANIZATION "SINGLE FILE" *
BAND_CONTENT BLACK&WHITE *
BITS_PER_PIXEL 8 *
SAMPLES_AND_LINES 5908 7577 *
HORIZONTAL_DATUM NAD83 *
HORIZONTAL_COORDINATE_SYSTEM UTM *
COORDINATE_ZONE 10 *
HORIZONTAL_UNITS METERS *
HORIZONTAL_RESOLUTION 1.0 *
SECONDARY_HORIZONTAL_DATUM NAD27 *
XY_ORIGIN 468485.737 4643204.949 *
SECONDARY_XY_ORIGIN 468581.772 4643008.446 *
NATION US *
STATE CA *
NW_QUAD_CORNER_XY 468912.996 4642904.949 *
NE_QUAD_CORNER_XY 474094.170 4642884.174 *
SE_QUAD_CORNER_XY 474068.890 4635944.973 *
SW_QUAD_CORNER_XY 468882.661 4635965.743 *
SECONDARY_NW_QUAD_XY 468912.144 4642691.504 *
SECONDARY_NE_QUAD_XY 474093.460 4642670.728 *
SECONDARY_SE_QUAD_XY 474068.181 4635731.625 *
SECONDARY_SW_QUAD_XY 468881.809 4635752.395 *
RMSE_XY 1.52 *
IMAGE_SOURCE "BLACK AND WHITE FILM" *
SOURCE_IMAGE_ID "NAPP 10479 93" *
SOURCE_IMAGE_DATE 1998 8 13 *
SOURCE_IMAGE_ID "NAPP 10479 94" *
SOURCE_IMAGE_DATE 1998 8 13 *
SOURCE_IMAGE_ID "NAPP 10479 92" *
SOURCE_IMAGE_DATE 1998 8 13 *
SOURCE_IMAGE_ID "NAPP 10479 247" *
SOURCE_IMAGE_DATE 1998 8 13 *
SOURCE_IMAGE_ID "NAPP 10479 248" *
SOURCE_IMAGE_DATE 1998 8 13 *
SOURCE_IMAGE_ID "NAPP 10479 249" *
SOURCE_IMAGE_DATE 1998 8 13 *
SOURCE_IMAGE_ID "NAPP 10479 77" *
SOURCE_IMAGE_DATE 1998 8 13 *
SOURCE_IMAGE_ID "NAPP 10479 78" *
SOURCE_IMAGE_DATE 1998 8 13 *
SOURCE_IMAGE_ID "NAPP 10479 79" *
SOURCE_IMAGE_DATE 1998 8 13 *
SOURCE_DEM_DATE 1999 0 0 *
AGENCY "WESTERN MAPPING CENTER (WMC)" *
PRODUCER "USDA FS GEOSPATIAL SERVICE AND TECHNOLOGY CENTER" *
PRODUCTION_SYSTEM "ORBIT OR_RECTIFY V.5.2" *
STANDARD_VERSION 1996 12 *
METADATA_DATE 2001 7 17 *
DATA_FILE_SIZE 44770824 *
BYTE_COUNT 5908 * * * * * * * * * * * * * * *
END_USGS_HEADER *
