BEGIN_USGS_DOQ_HEADER *
QUADRANGLE_NAME "DEADMAN POINT" *
QUADRANT NW *
WEST_LONGITUDE -123 30 0.000 *
EAST_LONGITUDE -123 26 15.000 *
NORTH_LATITUDE 42 0 0.000 *
SOUTH_LATITUDE 41 56 15.000 *
PRODUCTION_DATE 2001 7 16 *
RASTER_ORDER LEFT_RIGHT/TOP_BOTTOM *
BAND_ORGANIZATION "SINGLE FILE" *
BAND_CONTENT BLACK&WHITE *
BITS_PER_PIXEL 8 *
SAMPLES_AND_LINES 5914 7585 *
HORIZONTAL_DATUM NAD83 *
HORIZONTAL_COORDINATE_SYSTEM UTM *
COORDINATE_ZONE 10 *
HORIZONTAL_UNITS METERS *
HORIZONTAL_RESOLUTION 1.0 *
SECONDARY_HORIZONTAL_DATUM NAD27 *
XY_ORIGIN 458153.394 4650197.125 *
SECONDARY_XY_ORIGIN 458249.479 4650000.821 *
NATION US *
STATE CA *
NW_QUAD_CORNER_XY 458591.133 4649897.125 *
NE_QUAD_CORNER_XY 463767.253 4649868.789 *
SE_QUAD_CORNER_XY 463731.819 4642929.501 *
SW_QUAD_CORNER_XY 458550.636 4642957.831 *
SECONDARY_NW_QUAD_XY 458589.996 4649683.584 *
SECONDARY_NE_QUAD_XY 463766.258 4649655.247 *
SECONDARY_SE_QUAD_XY 463730.823 4642716.057 *
SECONDARY_SW_QUAD_XY 458549.499 4642744.387 *
RMSE_XY 1.52 *
IMAGE_SOURCE "BLACK AND WHITE FILM" *
SOURCE_IMAGE_ID "NAPP 10480 196" *
SOURCE_IMAGE_DATE 1998 8 13 *
SOURCE_IMAGE_ID "NAPP 10480 197" *
SOURCE_IMAGE_DATE 1998 8 13 *
SOURCE_IMAGE_ID "NAPP 10480 195" *
SOURCE_IMAGE_DATE 1998 8 13 *
SOURCE_IMAGE_ID "NAPP 10480 7" *
SOURCE_IMAGE_DATE 1998 8 13 *
SOURCE_IMAGE_ID "NAPP 10480 6" *
SOURCE_IMAGE_DATE 1998 8 13 *
SOURCE_IMAGE_ID "NAPP 10480 5" *
SOURCE_IMAGE_DATE 1998 8 13 *
SOURCE_IMAGE_ID "NAPP 10479 249" *
SOURCE_IMAGE_DATE 1998 8 13 *
SOURCE_IMAGE_ID "NAPP 10479 250" *
SOURCE_IMAGE_DATE 1998 8 13 *
SOURCE_IMAGE_ID "NAPP 10479 251" *
SOURCE_IMAGE_DATE 1998 8 13 *
SOURCE_DEM_DATE 1999 0 0 *
AGENCY "WESTERN MAPPING CENTER (WMC)" *
PRODUCER "USDA FS GEOSPATIAL SERVICE AND TECHNOLOGY CENTER" *
PRODUCTION_SYSTEM "ORBIT OR_RECTIFY V.5.2" *
STANDARD_VERSION 1996 12 *
METADATA_DATE 2001 7 17 *
DATA_FILE_SIZE 44863604 *
BYTE_COUNT 5914 * * * * * * * * * * * * * * *
END_USGS_HEADER *
